BEGIN:VCALENDAR
VERSION:2.0
PRODID:-//Gratis-in-Berlin//NONSGML kigkonsult.se iCalcreator 2.14//
METHOD:PUBLISH
X-WR-CALNAME:Gratis-in-Berlin Tip Kalender
X-WR-CALDESC:Erhalte Gratis-in-Berlin Tips in deinem Kalender
BEGIN:VEVENT
UID:20260422T133559UTC-789918VVOb@Gratis-in-Berlin
DTSTAMP:20260422T133559Z
DESCRIPTION:Im Jahr 2015 beauftragte der Kunstbeirat des Deutschen Bundesta
 ges zum ersten Mal vier zeitgenössische Künstlerinnen und Künstler mit Werken\, die sic
 h im weitesten Sinne mit Geschichte und Gegenwart des Parlaments auseinand
 ersetzen sollten.Die Berliner Künstlerin Juliane Ebner\, die 2013 bereits im Ma
 uer-Mahnmal mit der Ausstellung ?Parallelverschiebung? vorgestellt worden 
 war\, hat den Auftrag zum Anlass genommen\, sich auf eine Spurensuche zu b
 egeben\, die im Reichstag von 1933 ihren Anfang nimmt: Der halbstündige\, auf h
 underten Zeichnungen basierende Kurzfilm ?Landstrich? erzählt vom Schicksal 
 einer deutschen Familie zwischen Kriegsende und Mauerfall. Der Film ist wi
 e alle Filme der Künstlerin biografisch inspiriert und nicht auf die offizielle
  Geschichtsschreibung\, sondern auf die individuelle Erinnerung gerichtet.
  Er beginnt mit den Sätzen:?Nach dem Krieg hatte meine Großmutter ein schlech
 tes Gewissen\, weil sie noch lebte. Ihr Mann hatte ihr eine Pistole gegebe
 n und gesagt\, wenn der Russe käme\, solle sie zuerst die Kinder und dann si
 ch selbst erschießen\, und das hatte sie nicht getan.?Wir laden Sie herzlic
 h ein!Landstrich ? Ein Film und seine BilderJuliane Ebner18. Januar bis 30
 . April 2017Mauer-Mahnmal im Deutschen Bundestag\,Marie-Elisabeth-Lüders-HausSc
 hiffbauerdamm10117 BerlinÖffnungszeiten: Dienstag bis Sonntag 11 bis 17 Uhr
 Der Eintritt ist frei.An den Eingängen finden Sicherheitskontrollen statt.\n
 \nViel Spass wünscht Gratis-in-Berlin\n\nLink zum Tip: \nZu den Gratis-in-Berli
 n Angeboten: http://www.gratis-in-berlin.de\n
DTSTART;VALUE=DATE:20170118
DTEND;VALUE=DATE:20170703
SUMMARY:Juliane Ebner     Landstrich   -    Ein Film und seine Zeichnungen
END:VEVENT
END:VCALENDAR
