BEGIN:VCALENDAR
VERSION:2.0
PRODID:-//Gratis-in-Berlin//NONSGML kigkonsult.se iCalcreator 2.14//
METHOD:PUBLISH
X-WR-CALNAME:Gratis-in-Berlin Tip Kalender
X-WR-CALDESC:Erhalte Gratis-in-Berlin Tips in deinem Kalender
BEGIN:VEVENT
UID:20260422T132249UTC-9078wjL1OR@Gratis-in-Berlin
DTSTAMP:20260422T132249Z
DESCRIPTION:Malerei von Diana Astforh &amp\; Justyna FijalkowskaDie zwei ju
 ngen Künstlerinnen zeigen ihre Bilder auf dem Weg in und durch das Leben. Jedes
  Bild spiegelt ihre eigenen Lebensabschnitte wieder.Die inspirativen Eindr
 ücke entspringen den eigenen individuellen Erfahrungen der Künstlerinnen. So entsteh
 en Bilder aufgrund von Gefühlen\, Begegnungen mit Menschen\,Eindrücken aus der Natur
 \,Reisen in die eigene Fantasiewelt bis hin zu fremden realen Orten oder e
 infach nur durch das Betrachten von schönen Dingen.Die Expression zeigt sich 
 besonders im Umgang mit Farben und Formen oder der Art und Weise des Farba
 uftrages bzw. der einzelnen Linie.Sind die Bilder intensiv und leuchtend o
 der wirken sie eher unruhig?Alles hat eine Bedeutung.Seien Sie Zeuge. Lass
 en Sie sich inspirieren und finden Sie ihren eigenen Ausdruck in der Begeg
 nung mit Ihren eigenen Empfindungen beim Betrachten der Bilder.Termin: vom
  18.03.2017 bis zum 04.06.2017bis April ? Dienstag bis Sonntag von 10 bis 
 17 Uhrab Mai ? Dienstag bis Sonntag von 10 bis 18 UhrVeranstaltungsort:Dom
 inikanerkloster PrenzlauFoyergalerieUckerwiek 81317291 PrenzlauVeranstalte
 r:Dominikanerkloster PrenzlauKulturzentrum und MuseumTel.: 03984 75-2241Fa
 x: 03984 75-4699E-Mail: info@dominikanerkloster-prenzlau.de\n\nViel Spass 
 wünscht Gratis-in-Berlin\n\nLink zum Tip: https://www.gratis-in-berlin.de/kalen
 der/item/2029612-ausstellung-inspiration-und-expression\nZu den Gratis-in-
 Berlin Angeboten: http://www.gratis-in-berlin.de\n
DTSTART;VALUE=DATE:20170318
DTEND;VALUE=DATE:20170605
SUMMARY:Ausstellung ' Inspiration und Expression' 
END:VEVENT
END:VCALENDAR
