BEGIN:VCALENDAR
VERSION:2.0
PRODID:-//Gratis-in-Berlin//NONSGML kigkonsult.se iCalcreator 2.14//
METHOD:PUBLISH
X-WR-CALNAME:Gratis-in-Berlin Tip Kalender
X-WR-CALDESC:Erhalte Gratis-in-Berlin Tips in deinem Kalender
BEGIN:VEVENT
UID:20260424T100131UTC-3216FMK8r2@Gratis-in-Berlin
DTSTAMP:20260424T100131Z
DESCRIPTION:Einladung zu einer dreiteiligen Ausstellungsreihe über Skulptur mit 
 30 Künstlern in drei Berliner Galerien. Die drei aneinander anschließenden Ausst
 ellungen visualisieren über die Linie als konstituierende Struktur und Instrume
 nt die Erschließung von Volumen und Raum. Den Fokus ausschließlich auf Werke
  lenkend\, die zwischen zeichnerischem Denken und skulpturaler Setzung im 
 Raum agieren.Sie sind eingeladen\, sich durch die räumlichen Kompositionen z
 u bewegen: Skulptur\, Installation und Video\, kleine oder raumfüllende\, zeitg
 enössische und historische Positionen bekannter und weniger bekannter Künstler/inn
 en erschließen sich intuitiv und setzen den Raum unter Spannung. Interaktio
 nen und ungewohnte Nachbarschaften der ausgestellten Werke bringen verborg
 ene inhaltliche Korrespondenzen zum Vorschein. Ausstellungseröffnung umreißen 
 in der Galerie Parterre BerlinDienstag\, 25. April 2017 um 19 Uhr Die Auss
 tellungsreihe IN DEN RAUM ZEICHNEN\, kuratiert von der Malerin Claudia Bus
 ching und der Bildhauerin Pomona Zipser\, untersucht künstlerische Formen der A
 neignung von Raum sowie der Produktion dreidimensionaler Objektwelten. Anh
 and der vorgeschlagenen Lesarten linearer Skulptur ? umreißen\, verdichten\
 , spuren ? leistet sie einen Beitrag zum aktuellen Kunstdiskurs über die Linie.
 #Unter dem Titel umreißen geht die erste Ausstellung der Aktualität und Forts
 etzung der avantgardistischen Skulptur der 1920er Jahre nach. In der Galer
 ie Parterre Berlin werden dafür historische Positionen von Norbert Kricke und N
 aum Gabo in den Kontext zeitgenössischer Werke gestellt: der Schwarzlichtinst
 allation von Jeongmoon Choi\, den Skulpturen von Monika Brandmeier\, Chris
 toph M. Gais und einer Videoarbeit von Betina Kuntzsch.Galerie Parterre Be
 rlin 25.04. ? 18.06.2017 umreißenDanziger Straße 101\, 10405 Berlin\, Tel. (
 030) 9029-53821Mittwoch bis Sonntag 13.00 ? 21.00 Uhr\, Donnerstag 10.00 ?
  22.00 UhrIn der Galerie Nord I Kunstverein Tiergarten verdichten sich vor
  den Augen der Betrachter: Installationen von Harriet Groß\, Angela Lubic\,
  Matschinsky-Denninghoff\, Andreas Schmid\, Matthäus Thoma und Pomona Zipser
  neben einem Video von Betina Kuntzsch und Arbeiten von Gisela von Bruchha
 usen\, Susanne Specht und Diana Sirianni.Galerie Nord | Kunstverein Tierga
 rten 19.05. ? 24.06.2017 verdichtenTurmstraße 75\, 10551 Berlin\, Tel. (030
 ) 9018-33453Dienstag bis Samstag 13.00 ? 19.00 Uhrspuren Der Titel der dri
 tten Ausstellung im Haus am Kleistpark meint Spuren legen. Zu sehen sind e
 ine Raumzeichnung von Asako Tokitsu\, die sich über drei Räume erstreckt\, eine I
 nstallation über zwei Stockwerke im Treppenhaus von Johannes Pfeiffer\, ein Vid
 eo von Bignia Wehrli\, eine raumbezogene Lichtarbeit von Kerstin Ergenzing
 er\, Arbeiten von Olaf Bastigkeit\, Hartmut Böhm\, Ka Bomhardt\, Claudia Busc
 hing\, Carola Dinges\, Renate Hampke\, Axel Lieber\, Matschinsky-Denningho
 ff\, Ev Pommer\, Ursula Sax und Beate Terfloth.Haus am Kleistpark 15.06. ?
  13.08.2017 spurenGrunewaldstraße 6\, 10823 Berlin\, Tel. (030) 9027-76964D
 ienstag bis Sonntag 11.00 ? 18.00 UhrIN DEN RAUM ZEICHNENIdee und Konzept:
  Claudia Busching und Pomona ZipserDas Projekt wird gefördert von der Stiftun
 g Kulturwerk der VG Bild-Kunst und von der WILLMS NEUHAUS STIFTUNG ? Zufal
 l und Gestaltung.Zur Ausstellungsreihe erscheint ein Katalog mit Texten vo
 n Stefanie Endlich\, Angela Lammert und Robert Kudielka.Im Rahmen der Auss
 tellungen finden Vorträge von Eugen Blume\, Stefanie Endlich\, Angela Lammer
 t und Andreas Schalhorn statt\, Führungen für Besucher und Workshops für Schul&shy\;klass
 en.Vorschau: Veranstaltungen im Rahmen der Ausstellung IN DEN RAUM ZEICHNE
 NGalerie Parterre Berlin8. Juni um 19 Uhr: Dr. Angela Lammert\, Linie als 
 choreographische Bewegungsspur17. Juni von 11 - 14 Uhr: Dr. Fritz Jacobi\,
  Die lineare Skulptur\, der Raum\, das Nichts - und der Zufall?in Kooperat
 ion mit der WILLMS NEUHAUS STIFTUNG - Zufall und GestaltungGalerie Nord | 
 Kunstverein Tiergarten1. Juni um 19 Uhr: Dr. Andreas Schalhorn Expansion a
 us der Kompression: Ein Rundgang durch die skulpturalen Raumzeichnungen in
  der Galerie Nord11. Juni von 14 - 17 Uhr: Prof. Dr. Stefanie Endlich und 
 Dr. Ralf F. Hartmann\, Stadtspaziergang: Lineare Kunst im öffentlichen Raum. 
 Treffpunkt: U9 Hansaplatz\, am GRIPS-Theater (fällt bei starkem Regen aus)Ha
 us am KleistparkUnterwegs im Stadtraum18. Juni um 13 Uhr: Haus am Kleistpa
 rk\, 15 Uhr: Galerie Nord I Kunstverein Tiergarten\, 17 Uhr: Galerie Parte
 rre Berlin. Ausstellungsleiter*innen und Kuratorinnen im Gespräch und unterw
 egs von Galerie zu Galerie\, vorbei an Kunstwerken im öffentlichen Raum\, mit
  dem Fahrrad oder öffentlichen Verkehrsmitteln. Ab 18:30 Abschluss des Kunstn
 achmittages im Pratergarten.5. Juli um 20 Uhr: Dr. Bettina Güldner Erlebe im Vo
 rübergehen! Beiläufige Betrachtungen zur Kunst im öffentlichen Stadtraum12. Juli um 
 19 Uhr: Katalogpräsentation mit Nicola Kuhn (Katalogtexte: Prof. Dr. Stefani
 e Endlich\, Prof. Dr. Robert Kudielka\, Dr. Angela Lammert)Abbildung: Jeon
 gmoon Choi: Drawing in space ? Reflection\, 2015 | Technik: Fäden\, UV-Licht
 \, Größe: 80 qm Raum Ausstellungsfoto von der Ausstellung ?Vers une architect
 ure de lumière? in La Chartreuse de Villeneuve lez Avignon\, Villeneuve lez 
 Avignon\, Frankreich (Bild: Jeongmoon Choi)\n\nViel Spass wünscht Gratis-in-Ber
 lin\n\nLink zum Tip: \nZu den Gratis-in-Berlin Angeboten: http://www.grati
 s-in-berlin.de\n
DTSTART;VALUE=DATE:20170425
DTEND;VALUE=DATE:20170619
SUMMARY: IN DEN RAUM ZEICHNEN umreißen\, verdichten\, spuren 
END:VEVENT
END:VCALENDAR
