BEGIN:VCALENDAR
VERSION:2.0
PRODID:-//Gratis-in-Berlin//NONSGML kigkonsult.se iCalcreator 2.14//
METHOD:PUBLISH
X-WR-CALNAME:Gratis-in-Berlin Tip Kalender
X-WR-CALDESC:Erhalte Gratis-in-Berlin Tips in deinem Kalender
BEGIN:VEVENT
UID:20260422T150735UTC-7479uhcRNX@Gratis-in-Berlin
DTSTAMP:20260422T150735Z
DESCRIPTION:'Magic Moments 3' Künstler: Ekkehard Gollner Vernissage: 5.5.2017 um
  19 Uhr Dauer: 5.5.2017 bis 28.5.2017 Ort: Die Aktgalerie\, Krossener Stra
 ße 34\, 10245 Berlin Öffnungszeiten: Freitag\, Samstag\, Sonntag von 15 bis 
 19 UhrAls Berufsfotograf mit technisch-wissenschaftlichem Aufgabengebiet f
 and Ekkehard Gollner erst spät auch zur erotischen Fotografie\, die ihn als 
 Hobby und Kontrastprogramm zum gewohnten Beschäftigungsalltag reizte. Mit ge
 eigneten Modellen und seinem Gespür für Sinnlichkeit entstanden\, seit nun scho
 n 17 Jahren\, überwiegend Studio-Aufnahmen\, von denen er jeweils eine Auswahl 
 in bereits elf Einzelausstellungen in der Aktgalerie zeigen konnte. Seine 
 künstlerisch gestalteten Akt- und Erotik-Fotos haben Pfiff und sind zugleich ei
 ne Hommage an die Schönheit weiblicher Formen.\n\nViel Spass wünscht Gratis-in-Ber
 lin\n\nLink zum Tip: \nZu den Gratis-in-Berlin Angeboten: http://www.grati
 s-in-berlin.de\n
DTSTART;VALUE=DATE:20170505
DTEND;VALUE=DATE:20170529
SUMMARY:Die Aktgalerie / 'Magic Moments 3' von Ekkehard Gollner
END:VEVENT
END:VCALENDAR
