BEGIN:VCALENDAR
VERSION:2.0
PRODID:-//Gratis-in-Berlin//NONSGML kigkonsult.se iCalcreator 2.14//
METHOD:PUBLISH
X-WR-CALNAME:Gratis-in-Berlin Tip Kalender
X-WR-CALDESC:Erhalte Gratis-in-Berlin Tips in deinem Kalender
BEGIN:VEVENT
UID:20260424T101254UTC-5602kEoeMa@Gratis-in-Berlin
DTSTAMP:20260424T101254Z
DESCRIPTION:Mit Charles Crodel (1894-1973) widmet sich die Galerie Mutter F
 ourage erneut einem Maler\, der in den 20er und 30er Jahren in der Freien 
 und Berliner Secession ausstellte. Seine Malerei wurde anfänglich durch den 
 Expressionisten Ernst Ludwig Kirchner und durch Edvard Munch beeinflusst. 
 Reisen nach Nord- und Südeuropa sowie seine klassische Bildung prägten nach 1923 
 seinen unverwechselbaren poetisch-lyrischen Stil in der Malerei\, Grafik\,
  Wandgemälden und Kirchenfenstern. Mehr als 50 Arbeiten\, die in der Ausstel
 lung zu sehen sind\, zeigen eine lebenslange Schaffensfreude\, die trotz n
 ationalsozialistischer Repressalien ungebrochen blieb. Crodels Malerei wir
 d ergänzt durch großvolumige und expressive Raku-Keramiken des international 
 bekannten Künstlers Martin Mindermann (*1960).Die ausgestellten Werke sind verk
 äuflich.\n\nViel Spass wünscht Gratis-in-Berlin\n\nLink zum Tip: \nZu den Gratis-
 in-Berlin Angeboten: http://www.gratis-in-berlin.de\n
DTSTART;VALUE=DATE:20170414
DTEND;VALUE=DATE:20170606
SUMMARY:Ausstellung: 'Charles Crodel - 50 Jahre Malerei und Grafik'
END:VEVENT
END:VCALENDAR
