BEGIN:VCALENDAR
VERSION:2.0
PRODID:-//Gratis-in-Berlin//NONSGML kigkonsult.se iCalcreator 2.14//
METHOD:PUBLISH
X-WR-CALNAME:Gratis-in-Berlin Tip Kalender
X-WR-CALDESC:Erhalte Gratis-in-Berlin Tips in deinem Kalender
BEGIN:VEVENT
UID:20260422T144838UTC-3521Ta7xu9@Gratis-in-Berlin
DTSTAMP:20260422T144838Z
DESCRIPTION:Reihen\, Wiederholung\, Variation und das in theoretisch unendl
 icher Fortsetzung ? Das Prinzip der Serie ist in Bernhard Pauls Malerei gl
 eich mehrfach vertreten. Das künstlerische Konzept\, die Musik\, die der Malere
 i zugrunde liegt und der zeitliche Aspekt des Herstellungsprozesse\, all d
 as ist dem Seriellen verhaftet. Für Bernhard Paul ist die serielle Produktionsw
 eise eine Bildsprache\, die er ständig erprobt und erweitert.Vergleichbare P
 rozesse fanden in der Musik ab 1910 statt. Ähnlich wie die serielle Malerei
  etablierte Werte der Ästhetik in Frage stellte\, brachten die Strömungen der 
 sogenannten ?Neuen Musik? eine Neuorientierung der musikalischen Sprache h
 ervor. Durch die schrittweise Aufgabe der Dur-Moll-Tonalität bis hin zur Zwölft
 onmusik brach die Neue Musik mit dem harmonischen System. Dissonanz\, Mehr
 stimmigkeit und eine radikal neue Ästhetik waren die Folge.Bernhard Paul ni
 mmt die ?Neue Musik? als Grundlage seiner Kunst und konzipiert aus diesem 
 Einfluss Malvorgänge. Die ständigen Wiederholungen\, Konstanten und Unterbrech
 ungen bringt Paul als Abfolge von Pinselstrichen und rhythmischen Duktus a
 uf die Leinwand. Mit diesem Verfahren erzeugt der Künstler Ergebnisse wie die K
 omponisten: Klang\, Mehrstimmigkeit\, Dissonanz.Man könnte Bernhard Pauls Bil
 der als gemalte Kompositionen\, als verbildlichte Musik\, verstehen\, doch
  damit würde man seiner Malerei nicht gerecht. Es ist mehr als das. Die strikte
  Gleichförmigkeit und systematische Malweise erzeugt beim Betrachter eine Irr
 itation\, eine Überforderung in all der Klarheit der Formensprache. Wenn si
 ch die einzeln aufgetragenen Farben im Auge des Betrachters vermischen\, d
 ie Linien\, Wiederholungen und Reihen als Ganzes betrachtet werden\, dann 
 entsteht ein Flimmern\, das alle Sinne befällt. Die Farbflächen der einzelnen 
 Werke erscheinen mehrdimensional und schwellen als Serie zu etwas Größerem an
 .----Series\, Repetition\, Variation and the continually infinitely contin
 uing - The principle of the series is represented several times in Bernhar
 d Paul's painting. The artistic concept\, the music that underlies paintin
 g and the temporal aspect of the production process\, are all bound to the
  serial. For Bernhard Paul the serial mode of production is a pictorial la
 nguage\, which he constantly tests and expands.From 1910 onwards similar p
 rocesses took place in music. Just as serial painting questioned establish
 ed values of aesthetics\, the currents of the so-called 'new music' brough
 t about a reorientation of the musical language. Through the step-by-step 
 task of the major-minor tonality up to the twelve-tone music\, New Music b
 roke with the harmonic system. Dissonance\, polyphony and a radically new 
 aesthetic were the result.Bernhard Paul takes the 'New Music' as the basis
  of his art and produces from this influence painting processes. The const
 ant repetitions\, constants and interruptions bring Paul as a succession o
 f brush strokes and rhythmic ducts on the canvas. With this method the art
 ist produces results such as the composer: sound\, polyphony and dissonanc
 e.One could understand Bernhard Paul's paintings as painted compositions\,
  as illustrated music\, but this would not do justice to his painting. It 
 is more than that. Strict uniformity and systematic style of painting crea
 te an irritation\, an overburden in all the clarity of the form language. 
 When the individually applied colors are mixed in the eye of the beholder\
 , the lines\, repeats and rows are considered as a whole\, then a flickeri
 ng is produced which affects all the senses. The color areas of the indivi
 dual works appear multi-dimensional and swell as a series to something lar
 ger.\n\nViel Spass wünscht Gratis-in-Berlin\n\nLink zum Tip: https://www.gratis
 -in-berlin.de/kunst/item/2030649-bernhard-paul-polyphonia-ausstellung\nZu 
 den Gratis-in-Berlin Angeboten: http://www.gratis-in-berlin.de\n
DTSTART;VALUE=DATE:20170524
DTEND;VALUE=DATE:20170528
SUMMARY:Bernhard Paul - polyphonia / Ausstellung
END:VEVENT
END:VCALENDAR
