BEGIN:VCALENDAR
VERSION:2.0
PRODID:-//Gratis-in-Berlin//NONSGML kigkonsult.se iCalcreator 2.14//
METHOD:PUBLISH
X-WR-CALNAME:Gratis-in-Berlin Tip Kalender
X-WR-CALDESC:Erhalte Gratis-in-Berlin Tips in deinem Kalender
BEGIN:VEVENT
UID:20260424T100132UTC-2014DtWRJi@Gratis-in-Berlin
DTSTAMP:20260424T100132Z
DESCRIPTION:Adéla Sou?kovás Mythologie ist visionär und primitiv zugleich. Sie sc
 hlägt ihre Zähne in die offensichtlichsten visuellen und narrativen Archetypen
  und Klischees\, um sie in Stücke zu zerreißen und dann zu Gebilden mit einem ne
 uen Bewusstsein zusammenzusetzen ? als ein Versprechen von etwas\, was ers
 t noch kommen wird. Kuratorin der Ausstellung ist Karina Kottová\, das Proje
 kt entstand in Kooperation mit der Jind?ich-Chalupecký-Gesellschaft.Die Einzela
 usstellung für die Galerie des Tschechischen Zentrums Berlin ist eine Materiali
 sierung des Epos von der Erde und ihren Kindern\, die sich - in Datenströmen 
 verfangen und von der Übermacht des Egos beherrscht - ihrer Mutter entfremd
 en und damit auch der eigenen Natur. Mit einem Videoessay und einer Raumin
 stallation von Objekten\, Bildern und Textildrucken nähert sich Sou?ková aus e
 iner eigenwilligen Perspektive den existenziellen Herausforderungen an\, d
 enen die sich unsicher vorantastenden Bewohner dieses Planeten gegenüberstehen.
  Die Erde erwacht aus einem unruhigen Traum und wie zu erwarten\, ist sie 
 nicht unbedingt bester Laune. Sie schaut sich um\, kernig und poetisch\, b
 ereit\, für ihre Kinder einen destruktiven Tanz zu tanzen\, der sie vielleicht 
 dazu anregt\, ihre (virtuelle) Realität zu durchdringen und auf der anderen 
 Seite das gelobte Land zu finden.Eröffnung: Donnerstag\, 11.05.2017\, 19:00\,
  in Anwesenheit der Künstlerin und der Kuratorin\n\nViel Spass wünscht Gratis-in-Ber
 lin\n\nLink zum Tip: \nZu den Gratis-in-Berlin Angeboten: http://www.grati
 s-in-berlin.de\n
DTSTART;VALUE=DATE:20170511
DTEND;VALUE=DATE:20170616
SUMMARY:Adéla Sou?ková: Von einer Erde\, die aus einem unruhigen Traum erwacht
END:VEVENT
END:VCALENDAR
