BEGIN:VCALENDAR
VERSION:2.0
PRODID:-//Gratis-in-Berlin//NONSGML kigkonsult.se iCalcreator 2.14//
METHOD:PUBLISH
X-WR-CALNAME:Gratis-in-Berlin Tip Kalender
X-WR-CALDESC:Erhalte Gratis-in-Berlin Tips in deinem Kalender
BEGIN:VEVENT
UID:20260422T133651UTC-4916744UDb@Gratis-in-Berlin
DTSTAMP:20260422T133651Z
DESCRIPTION:Duoausstellung in der Galerie Makowski zum Thema 'Frauliche Frühling
 '. Inspirierende Werke Rund um das Thema der Künstlerinnen Natalja Hein und Ele
 na Lück.\n\nViel Spass wünscht Gratis-in-Berlin\n\nLink zum Tip: \nZu den Gratis-in-
 Berlin Angeboten: http://www.gratis-in-berlin.de\n
DTSTART;VALUE=DATE:20170506
DTEND;VALUE=DATE:20170527
SUMMARY:Kunstausstellung 'Frauliche Frühling'\, Galerie Makowski
END:VEVENT
END:VCALENDAR
