BEGIN:VCALENDAR
VERSION:2.0
PRODID:-//Gratis-in-Berlin//NONSGML kigkonsult.se iCalcreator 2.14//
METHOD:PUBLISH
X-WR-CALNAME:Gratis-in-Berlin Tip Kalender
X-WR-CALDESC:Erhalte Gratis-in-Berlin Tips in deinem Kalender
BEGIN:VEVENT
UID:20260422T150659UTC-7605tICJBc@Gratis-in-Berlin
DTSTAMP:20260422T150659Z
DESCRIPTION:Eine Fotoausstellung des Umbruch Bildarchivs in Zusammenarbeit 
 mit der Regenbogenfabrik als Kontrapunkt zu Fake-News\, Hasstiraden und de
 struktiver Stimmungsmache in den sozialen Medien.Mit Fotos von: Andrea Lin
 ss\, Jutta Matthess\, Christina Palitzsch\, Monika v. Wegerer\, Oliver Fel
 dhaus\, Peter Homann\, Michael Hughes\, Adrienne Gerhäuser\, Nicholas Ganz\,
  Merchi\, Jan\, Omer Fadl und Hermann Bach.Für kurze Zeit öffneten sich in Deutsch
 land Grenzen:'Welcome Refugees' stand für eine gesellschaftliche Offenheit und 
 Solidarität\, die auf das Sterben in Syrien und die Toten im Mittelmeer antw
 ortete.Diese Stimmung begann nach wenigen Monaten durch eine aggressive Be
 richterstattung der Medien zu kippen\, Brandanschläge und Angriffe auf Geflüchtet
 e nahmen ein entsetzliches Ausmaß an. In diesen Attacken und der Flut der F
 ake-News und Hasstiraden auf Geflüchtete und Nicht-Deutsche scheint der reale g
 esellschaftliche Rassismus auf der Straße und in den sozialen Medien auf.Ob
  sich hier gesellschaftliche Mehrheiten widerspiegeln oder nur scheinbare 
 Mehrheiten virtuell erzeugt werden\, ist nicht leicht zu erkennen.Die Auss
 tellung setzt der virtuellen Hetze eine andere Welt entgegen. Statt der Au
 s- und Abgrenzung von Menschen zeigt sie solidarische Begegnungen voller g
 egenseitigem Respekt: Menschen\, die sich mit Offenheit\, Freundlichkeit u
 nd ohne Vorurteile begegnen. Virtualisierten Feindbildern und Hass stellt 
 sie die Wirklichkeit alltäglichen Widerstands entgegen. Die Ausstellung vers
 ucht\, die Subjektivitäten aller Menschen wie auch das allen Gemeinsame durc
 h die fotografische Linse zu sehen\, zu erkennen und zu respektieren.Ein V
 ersuch\, der im alltäglichen und im perspektivischen Zusammenleben unverzich
 tbar ist.\n\nViel Spass wünscht Gratis-in-Berlin\n\nLink zum Tip: \nZu den Grat
 is-in-Berlin Angeboten: http://www.gratis-in-berlin.de\n
DTSTART;VALUE=DATE:20170519
DTEND;VALUE=DATE:20170825
SUMMARY:'Respekt! Solidarische Begegnungen' - Fotoausstellung im Regenbogen
 Café
END:VEVENT
END:VCALENDAR
