BEGIN:VCALENDAR
VERSION:2.0
PRODID:-//Gratis-in-Berlin//NONSGML kigkonsult.se iCalcreator 2.14//
METHOD:PUBLISH
X-WR-CALNAME:Gratis-in-Berlin Tip Kalender
X-WR-CALDESC:Erhalte Gratis-in-Berlin Tips in deinem Kalender
BEGIN:VEVENT
UID:20260422T152022UTC-9696xzNvA5@Gratis-in-Berlin
DTSTAMP:20260422T152022Z
DESCRIPTION:JUGEND FOTOGRAFIERT ? GruppenausstellungAusstellungsdauer: 19. 
 Mai bis 9. Juni 2017Eröffnung:Donnerstag\, 18. Mai 2017 um 19 UhrEinführung: Felix
  Hawran (Leiter der Fotogalerie)Zum zweiten Mal zeigt die Fotogalerie eine
  Auswahl von Jugendfotografie in Zusammenarbeit mit Berliner Schulen und k
 ulturellen Bildungsprojekten. Die Ausstellung wurde gemeinsam mit den Juge
 ndlichen gestaltet und setzt sich aus folgenden Serien zusammen:? 'Frühlingserw
 achen: Pflanzen und Tiere in Berlin' - Montessori Grundschule am Rohrgarte
 n? Lochkamera-Portraits mit Laure Gilquin\, in Zusammenarbeit mit Gangway 
 e.V. und Jugendclub Feuerwache? Ausgewählte Fotografien im Rahmen des Kunstu
 nterrichts 11. Klasse am Dathe Gymnasium Friedrichshain? 'Luminogramme' - 
 Zusatzkurs Digitalfotografie 11. Klasse am Immanuel Kant Gymnasium Lichten
 berg? Solarfotografie aus dem Kulturring Projekt 'WasserLeben' mit Anja Bo
 danowitz und Oscar Adila? 'Skateboarding' von Mobina Nazari\, in Zusammena
 rbeit mit Drop In e.V. Friedrichshain-------------------------------------
 ------------------------------------------------------------------Thursday
 \, 18th May 2017\, 7 pmOpening of the group photo exhibition Jugend fotogr
 afiertIntroduction: Felix Hawran (Director of Fotogalerie Friedrichshain)D
 uration of the exhibition: 19th May - 9th June 2017Group exhibition in col
 laboration with Berlin schools and youth art projects. For the second time
 \, Fotogalerie Friedrichshain shifts its focus on a selection of contempor
 ary youth photography. Together with the participants\, we created this 3-
 weeks group exhibition to showcase the potential and creativity of Berlin'
 s young talents and can guarantee that it is going to be exciting.\n\nViel
  Spass wünscht Gratis-in-Berlin\n\nLink zum Tip: \nZu den Gratis-in-Berlin Ange
 boten: http://www.gratis-in-berlin.de\n
DTSTART;VALUE=DATE:20170519
DTEND;VALUE=DATE:20170610
SUMMARY:Fotogalerie Friedrichshain: JUGEND FOTOGRAFIERT 2017 Gruppenausstel
 lung
END:VEVENT
END:VCALENDAR
