BEGIN:VCALENDAR
VERSION:2.0
PRODID:-//Gratis-in-Berlin//NONSGML kigkonsult.se iCalcreator 2.14//
METHOD:PUBLISH
X-WR-CALNAME:Gratis-in-Berlin Tip Kalender
X-WR-CALDESC:Erhalte Gratis-in-Berlin Tips in deinem Kalender
BEGIN:VEVENT
UID:20260421T001756UTC-5176Jz35Na@Gratis-in-Berlin
DTSTAMP:20260421T001756Z
DESCRIPTION:Transformation der globalen Landschaft unter der Last der Indus
 trialisierung ist das zentrale Thema ihrer Arbeit. In APOCALYPSE YESTERDAY
  kommuniziert Samantha Heydt dies mit unterschiedlichen Medien: Collagen\,
  Objekte und Fotografien werden mit klassischen Merchandising-Produkten ko
 mbiniert und thematisieren Konsumverhalten und materielle Ungleichheit\, m
 enschliche Selbstgefälligkeit und den Einfluss der Medien in einer Welt\, di
 e auf reine Profitorientierung reduziert wird.SAM HEYDT 1986 in New York g
 eboren. Studium an der Parsons School of Design\, Cooper Union Universidad
  de Buenos Aires\, Amsterdam und La Sorbonne Paris. Artist Residencies in 
 Island\, Australien und Neuseeland. Altruistic\, non-profit work u.a. in R
 ajasthan\, Indien. Ausstellungen in Newport Art Museum\, State Hermitage M
 useum\, St.Petersburg\, Perm Museum of Contemporary Art\, Krasnoyarsk Muse
 um\, Museum of Novosibirsk\, LACDA\, Los Angeles. Sie lebt und arbeitet in
  Miami und Paris.GALERIE BARDOHL&amp\;SCHEELAltenbraker Str. 5&nbsp\;&nbsp
 \; | 12053 Berlinwww.bardohl-scheel.com\n\nViel Spass wünscht Gratis-in-Berlin
 \n\nLink zum Tip: https://www.gratis-in-berlin.de/heute/item/2039464-sam-h
 eydt-apocalypse-yesterday\nZu den Gratis-in-Berlin Angeboten: http://www.g
 ratis-in-berlin.de\n
DTSTART;VALUE=DATE:20181018
DTEND;VALUE=DATE:20190107
SUMMARY:Sam Heydt : APOCALYPSE YESTERDAY
END:VEVENT
END:VCALENDAR
