BEGIN:VCALENDAR
VERSION:2.0
PRODID:-//Gratis-in-Berlin//NONSGML kigkonsult.se iCalcreator 2.14//
METHOD:PUBLISH
X-WR-CALNAME:Gratis-in-Berlin Tip Kalender
X-WR-CALDESC:Erhalte Gratis-in-Berlin Tips in deinem Kalender
BEGIN:VEVENT
UID:20260422T141922UTC-0352Efx7fe@Gratis-in-Berlin
DTSTAMP:20260422T141922Z
DESCRIPTION:PROCESSING:MOABITEine performative Installation von Elisa Duca 
 und Robin DetjeDie Arbeit\, mit der das Künstlerpaar Elisa Duca und Robin Detje
  in die Galerie Nord | Kunstverein Tiergarten eingeladen wurde\, beginnt a
 m 3. Mai mit einer Eröffnungsperformance. Die Künstler besetzen den teils noch lee
 ren Galerieraum vor den Augen der Besucher*innen mit Objekten und entwicke
 ln die Installation als lebendigen Organismus über die gesamte Ausstellungsdaue
 r ständig weiter. Immer wieder werden in der Galerie Nord performative Inter
 ventionen zu sehen sein. Es gibt keinen finalen Zustand der Installation\,
  sondern nur das Ende des Ausstellungszeitraums.Eröffnung: 3. Mai 2019\, 19 U
 hr4. Mai - 1. Juni 2019Galerie Nord | Kunstverein TiergartenTurmstraße 75\,
  10551 BerlinÖffnungszeiten: Di-Sa 13-19 UhrWeitere Termine:Di. 07. 05.\, 1
 5 Uhr - Performative Intervention 1Sa. 11.05\, 13 Uhr - Performative Inter
 vention 2Sa. 18.5.\, 16 Uhr - Künstlergespräch mit Isabelle MeiffertMi. 22.05.\, 
 18 Uhr - Performative Intervention 3Sa. 25.05.\, 16 Uhr - Mädchenchor ?Levet
 zowgirls?: Ein Chor geflüchteter Mädchen als Afghanistan\, Syrien und dem Irak übernim
 mt die InstallationSo. 26.05.\, ganztägig - Demokratie-Performance: Die Inst
 allation wird zum Wahllokal für die EuropawahlFinissage: 31. Mai 2019\, 19 UhrK
 uratorische Begleitung: Veronika Witte\, Isabelle MeiffertMitarbeit: Chris
  Möller\; Koordination: Ulrike RiebelMit freundlicher Unterstützung der bezirklich
 en Förderfonds der Senatsverwaltung Kultur und Europa\, des Bezirkskulturfond
 s Mitte und des Aktionsfonds des Quartiersmanagements Moabit West.________
 ___________________________________________________Elisa Duca und Robin De
 tje über PROCESSING:MOABITNichts bleibt\, wie es ist. Kein Ding bleibt an seine
 m Ort. Kein Mensch bleibt an seinem Ort. Es gibt keinen Stillstand\, es gi
 bt keine Reinheit. Und es gibt keine Grenzen. Wenn ich meine Hand auf die 
 Tischplatte lege\, gehen ein paar Atome meiner Haut in die Tischplatte über und
  ein paar Atome der Tischplatte in meine Haut. Dass ich nicht zu Holz werd
 e und die Tischplatte nicht zum Menschen\, ist vielleicht eher Zufall.Unse
 re performative Installation hebelt diese Normalität aus. In Moabit gesammel
 te Dinge\, unterfüttert von in Moabit gehörten Geschichten\, werden neu gemischt. 
 Nach neuen Regeln\, die sich täglich ändern können. Eine Welt des Wahns\, viellei
 cht. Entgrenzung\, Regellosigkeit\, Unsinn. Sinnentleerung\, Sinnumschicht
 ung. Produktion von neuem Sinn durch Unsinn. Eine Gegenwelt entsteht\, imm
 er noch Spiegel des Moabiter Alltags\, aber unbewohnbar. Es sei denn\, man
  findet andere Kriterien\, andere Methoden\, sich dort einzuleben und dies
 e Welt zu nutzen.Die Objekte\, aus denen unsere Installation besteht\, kom
 men aus vielen verschiedenen Welten\, die alle nebeneinander existieren. D
 ie Menschen\, die sie benutzen\, sprechen verschiedene Sprachen. Wir misch
 en ihre Dinge. Wichtig ist für uns dabei der Begriff der ?Kreolisierung?. Er be
 zeichnet eine ?fröhliche Praktik der Verpflanzung?\, die Widersprüche und Gegensätze
  positiv besetzt.Wir arbeiten an einer Ästhetik des Nebeneinanders\, an Dem
 okratisierung in einem Parlament der Dinge und der Lebewesen. Es gibt kein
  Anthropozän. Es gibt eine Gemeinschaft aus Mineralien\, Gasen\, Bakterien\,
  Pilzen und Viren\, aus Putzeimern\, Mandarinen\, Strumpfhosen\, Abwaschsc
 hwämmen\, Abschleppseilen\, Blumenkohl\, die uns Menschen aufnimmt\, unabhängi
 g von unserer kulturellen Herkunft und ohne uns zu bewerten.Foto © Maja Wir
 kus\n\nViel Spass wünscht Gratis-in-Berlin\n\nLink zum Tip: https://www.gratis-
 in-berlin.de/kunst/item/2042399-processing-moabit\nZu den Gratis-in-Berlin
  Angeboten: http://www.gratis-in-berlin.de\n
DTSTART;VALUE=DATE:20190503
DTEND;VALUE=DATE:20190602
SUMMARY:PROCESSING:MOABIT
END:VEVENT
END:VCALENDAR
