BEGIN:VCALENDAR
VERSION:2.0
PRODID:-//Gratis-in-Berlin//NONSGML kigkonsult.se iCalcreator 2.14//
METHOD:PUBLISH
X-WR-CALNAME:Gratis-in-Berlin Tip Kalender
X-WR-CALDESC:Erhalte Gratis-in-Berlin Tips in deinem Kalender
BEGIN:VEVENT
UID:20260420T113911UTC-8127V34aFI@Gratis-in-Berlin
DTSTAMP:20260420T113911Z
DESCRIPTION:Kunstgespräch im Rahmen der ART Steglitz 2023 - Aktuelle Arbeiten
  - Part IITeilnehmende Künster und Künstlerinnen des KUNST.RAUM.STEGLITZ. e.V. laden
  zum Gespräch über Kunst während der Finissage ein.\n\nViel Spass wünscht Gratis-in-Berl
 in\n\nLink zum Tip: \nZu den Gratis-in-Berlin Angeboten: http://www.gratis
 -in-berlin.de\n
DTSTART;VALUE=DATE:20231125
DTEND;VALUE=DATE:20231126
SUMMARY:Art Steglitz 2023 - Aktuelle Arbeiten - Part II - Kunstgespräch
END:VEVENT
END:VCALENDAR
