BEGIN:VCALENDAR
VERSION:2.0
PRODID:-//Gratis-in-Berlin//NONSGML kigkonsult.se iCalcreator 2.14//
METHOD:PUBLISH
X-WR-CALNAME:Gratis-in-Berlin Tip Kalender
X-WR-CALDESC:Erhalte Gratis-in-Berlin Tips in deinem Kalender
BEGIN:VEVENT
UID:20260419T144300UTC-8083PfFCrv@Gratis-in-Berlin
DTSTAMP:20260419T144300Z
DESCRIPTION:Moabits Markt für Kunsthandwerk &amp\; Design findet wieder statt! V
 on 10-17:00 finden Sie die Aussteller im Mittelgang der wunderschönen Arminiu
 smarkthalle (Eingang Bugenhagenstrasse). Lassen Sie sich vom Ambiente verz
 aubern und stöbern Sie ausgiebig in den Auslagen der Akteure. Die umliegende 
 Gastronomie lädt ebenfalls zum Verweilen ein.Anmerkung Redaktion: Wir haben 
 diesen älteren Eintrag in die Gegenwart umdatiert.Termine&nbsp\;07. Februar\
 , 14. März\, 11. April\, 02. Mai und 06. Juni 2026\n\nViel Spass wünscht Gratis-i
 n-Berlin\n\nLink zum Tip: https://www.gratis-in-berlin.de/kalender/item/20
 52923-artminius21-markt-fuer-kunsthandwerk-design\nZu den Gratis-in-Berlin
  Angeboten: http://www.gratis-in-berlin.de\n
DTSTART;VALUE=DATE:20260411
DTEND;VALUE=DATE:20260412
SUMMARY:ArTminius21 - Markt für Kunsthandwerk & Design
END:VEVENT
END:VCALENDAR
