BEGIN:VCALENDAR
VERSION:2.0
PRODID:-//Gratis-in-Berlin//NONSGML kigkonsult.se iCalcreator 2.14//
METHOD:PUBLISH
X-WR-CALNAME:Gratis-in-Berlin Tip Kalender
X-WR-CALDESC:Erhalte Gratis-in-Berlin Tips in deinem Kalender
BEGIN:VEVENT
UID:20260421T163601UTC-3992kWUhNJ@Gratis-in-Berlin
DTSTAMP:20260421T163601Z
DESCRIPTION:Die Kuratorinnen Helena Huber-Doudová und Simona Binko führen durch di
 e Ausstellung und durch die 50jährige Geschichte des Botschaftsgebäudes.Eintri
 tt frei\, es gilt FFP2-MaskenpflichtBitte beachten Sie unsere aktuellen Hy
 gienevorschriften!Zur Ausstellunghttps://berlin.czechcentres.cz/de/program
 m/raumschiff-enterpriseWir fotografieren während der Veranstaltung zum Zweck
 e der Veröffentlichung auf unserer Internetseite und/oder unseren Social Medi
 a Kanälen auf Facebook\, Twitter\, Instagram und Youtube. Wenn Sie das nicht
  abgebildet werden möchten\, teilen Sie das bitte unserer Fotografin/unserem 
 Fotografen oder unseren Mitarbeitern mit.\n\nViel Spass wünscht Gratis-in-Berli
 n\n\nLink zum Tip: \nZu den Gratis-in-Berlin Angeboten: http://www.gratis-
 in-berlin.de\n
DTSTART;VALUE=DATE:20220512
DTEND;VALUE=DATE:20220513
SUMMARY:Führung durch die Ausstellung ?Raumschiff Enterprise?
END:VEVENT
END:VCALENDAR
