BEGIN:VCALENDAR
VERSION:2.0
PRODID:-//Gratis-in-Berlin//NONSGML kigkonsult.se iCalcreator 2.14//
METHOD:PUBLISH
X-WR-CALNAME:Gratis-in-Berlin Tip Kalender
X-WR-CALDESC:Erhalte Gratis-in-Berlin Tips in deinem Kalender
BEGIN:VEVENT
UID:20260420T143246UTC-00508HUNWk@Gratis-in-Berlin
DTSTAMP:20260420T143246Z
DESCRIPTION:Hochwertige Gebrauchskunst\, die Freude in den Alltag bringt\, 
 können Sie in großer Auswahl auf der Zeughausmesse im Kühlhaus Berlin entdecken und
  kaufen: Schmuck\, aus Federn\, Pergament\, Büffelhorn\, Platin\, Edelstahl und
  natürlich Gold und Silber\, mundgeblasene und geschmolzene Gläser und Glasvasen\
 , von Hand verknotete Teppiche\, Sitzkissen und Bankauflagen\, handgeferti
 gte Lederschuhe\, gedrechselte und gebürstete Gefäße aus Eichenholz\, Lampen und 
 Gefäße aus Birkenrinde und viele weitere spannenden Objekte. Der Besuch auf 
 der Zeughausmesse ist eine inspirierende Entdeckungstour. Rund 100 Künstler:inn
 en berichten gerne über die Entstehungsgeschichte Ihrer Gebrauchsgegenstände und 
 öffnen so einen neuen Blick auf die Dinge.Anmerkung Redaktion: Wir haben den 
 User-Eintrag aus der Vergangenheit neu datiert.\n\nViel Spass wünscht Gratis-in
 -Berlin\n\nLink zum Tip: \nZu den Gratis-in-Berlin Angeboten: http://www.g
 ratis-in-berlin.de\n
DTSTART;VALUE=DATE:20231117
DTEND;VALUE=DATE:20231118
SUMMARY:Zeughausmesse Arts & Crafts im Kühlhaus (Freitag frei)
END:VEVENT
END:VCALENDAR
