BEGIN:VCALENDAR
VERSION:2.0
PRODID:-//Gratis-in-Berlin//NONSGML kigkonsult.se iCalcreator 2.14//
METHOD:PUBLISH
X-WR-CALNAME:Gratis-in-Berlin Tip Kalender
X-WR-CALDESC:Erhalte Gratis-in-Berlin Tips in deinem Kalender
BEGIN:VEVENT
UID:20260424T082937UTC-0014ATksUN@Gratis-in-Berlin
DTSTAMP:20260424T082936Z
DESCRIPTION:n.b.k. ShowroomKurator: Marius BabiasAb dem 13. September 2023 
 kann für Überweisungen an den n.b.k. das Konto einer konfessionslosen Bank genu
 tzt werden.Seit 2000 fu?hrt der n.b.k. seine Geschäftskonten bei einer konfe
 ssionellen Bank. Anlässlich der Ausstellung Accounting Confessions von Bea S
 chlingelhoff wurden zusätzlich zwei Konten bei einer nicht-konfessionellen B
 ank eröffnet\, die fu?r die Durchfu?hrung zuku?nftiger Projekte sowie fu?r Ei
 nzahlungen von Mitgliedsbeiträgen oder fu?r andere Buchungen alternativ genu
 tzt werden können. Diese Konten bleiben u?ber die Ausstellung hinaus aktiv.Du
 rch Freilegung des Bodenbelags\, Öffnung der Fensterfront und Ru?ckbau der 
 Wände versetzt die Ku?nstlerin den n.b.k. Showroom in seinen vorherigen Zust
 and als Bu?roraum.Bea Schlingelhoff (lebt und arbeitet in Zu?rich) hatte z
 uletzt monografische Ausstellungen im Ku?nstlerhaus Stuttgart (2022)\; Kun
 stverein Mu?nchen (2021)\; Museum des Landes Glarus\, Näfels / Schweiz (2019
 ) und Schloss\, Oslo (2018). Gruppenausstellungen u.a.: Bergen Kunsthall (
 2021)\; Kunsthalle Zu?rich\; Kunsthalle Basel\; Kunsthaus Glarus (alle 202
 0)\; Kölnischer Kunstverein (2019)\; Manifesta\, Genk (2012). 2023 wurde Schl
 ingelhoff mit dem Prix de la Société des Arts de Genève ausgezeichnet. Seit 20
 11 lehrt sie an der Zu?rcher Hochschule der Ku?nste.\n\nViel Spass wünscht Grat
 is-in-Berlin\n\nLink zum Tip: https://www.gratis-in-berlin.de/kalender/ite
 m/2061704-bea-schlingelhoff-di-so\nZu den Gratis-in-Berlin Angeboten: http
 ://www.gratis-in-berlin.de\n
DTSTART;VALUE=DATE:20230914
DTEND;VALUE=DATE:20240115
SUMMARY:Bea Schlingelhoff (Di-Fr)
END:VEVENT
END:VCALENDAR
