BEGIN:VCALENDAR
VERSION:2.0
PRODID:-//Gratis-in-Berlin//NONSGML kigkonsult.se iCalcreator 2.14//
METHOD:PUBLISH
X-WR-CALNAME:Gratis-in-Berlin Tip Kalender
X-WR-CALDESC:Erhalte Gratis-in-Berlin Tips in deinem Kalender
BEGIN:VEVENT
UID:20260422T083701UTC-3044Lee6so@Gratis-in-Berlin
DTSTAMP:20260422T083701Z
DESCRIPTION:Schnell zu skizzieren ist eine Methode\, um Augenblicke festzuh
 alten. Manche Eindrücke verfliegen sehr schnell und wir wünschen uns\, dass wir sie 
 immer wieder sehen können. Das kann ein Vogel auf einem Ast sein\, ein Wasser
 tropfen an einer Scheibe oder ein Mensch in einer verrückten Körperhaltung. In die
 sem Workshop werden wir solche Augenblicke auf Papier festhalten\, dabei t
 rainieren wir unsere Umgebung genau wahrzunehmen und schnell zu skizzieren
 . Der Eintritt ist frei. Weitere Informationen unter: 030/28032996\; info@
 kunstamt-reinickendorf.de Das Projekt resiART wird gefördert aus Mitteln des 
 bezirklichen Integrationsfonds des Bezirksamtes Reinickendorf von Berlin. 
 Der Integrationsfonds ist eine Maßnahme des Gesamtkonzepts zur Integration 
 und Partizipation Geflüchteter des Senats von Berlin.\n\nViel Spass wünscht Gratis-i
 n-Berlin\n\nLink zum Tip: \nZu den Gratis-in-Berlin Angeboten: http://www.
 gratis-in-berlin.de\n
DTSTART;VALUE=DATE:20231108
DTEND;VALUE=DATE:20231109
SUMMARY:Speed Sketching ? Zeichenkurs mit Kifan Alkarjousli
END:VEVENT
END:VCALENDAR
