BEGIN:VCALENDAR
VERSION:2.0
PRODID:-//Gratis-in-Berlin//NONSGML kigkonsult.se iCalcreator 2.14//
METHOD:PUBLISH
X-WR-CALNAME:Gratis-in-Berlin Tip Kalender
X-WR-CALDESC:Erhalte Gratis-in-Berlin Tips in deinem Kalender
BEGIN:VEVENT
UID:20260422T133651UTC-8131N5nUrv@Gratis-in-Berlin
DTSTAMP:20260422T133651Z
DESCRIPTION:Kalligrafie ist die Kunst des schönen Schreibens\, die besonders i
 n der Zeit vor Erfindung des Buchdrucks zur Anfertigung wichtiger Dokument
 e und religiöser Texte verwendet wurde. Etymologisch leitet sich das Wort aus
  dem Altgriechischen ab\, doch fand überall auf der Welt Anwendung. Heute wird 
 die Mit Hand\, Federkiel\, Bleistift\, Filzstift oder anderen Schreibwerkz
 eugen werden verschiedene Möglichkeiten der Kalligrafie gezeigt. Der Eintritt
  ist frei. Weitere Informationen unter: 030/28032996\; info@kunstamt-reini
 ckendorf.de Das Projekt resiART wird gefördert aus Mitteln des bezirklichen I
 ntegrationsfonds des Bezirksamtes Reinickendorf von Berlin. Der Integratio
 nsfonds ist eine Maßnahme des Gesamtkonzepts zur Integration und Partizipat
 ion Geflüchteter des Senats von Berlin.\n\nViel Spass wünscht Gratis-in-Berlin\n\nLi
 nk zum Tip: \nZu den Gratis-in-Berlin Angeboten: http://www.gratis-in-berl
 in.de\n
DTSTART;VALUE=DATE:20231106
DTEND;VALUE=DATE:20231107
SUMMARY:Fine writing ? Kalligrafiekurs mit Dani Hasrouni
END:VEVENT
END:VCALENDAR
