BEGIN:VCALENDAR
VERSION:2.0
PRODID:-//Gratis-in-Berlin//NONSGML kigkonsult.se iCalcreator 2.14//
METHOD:PUBLISH
X-WR-CALNAME:Gratis-in-Berlin Tip Kalender
X-WR-CALDESC:Erhalte Gratis-in-Berlin Tips in deinem Kalender
BEGIN:VEVENT
UID:20260420T094355UTC-74822fc4t2@Gratis-in-Berlin
DTSTAMP:20260420T094355Z
DESCRIPTION:Im Kurs werden theoretische und handwerkliche Grundlagen der Ölm
 alerei vermittelt. Mit unterschiedlichen Hilfsmitteln können verschiedene hap
 tische und visuelle Effekte hervorgerufen werden. Ob figürlich oder abstrakt\, 
 Teilnehmende sind eingeladen\, sich im Bereich der Ölmalerei auszuprobieren
  und zu experimentieren. Der Eintritt ist frei. Weitere Informationen unte
 r: 030/28032996\; info@kunstamt-reinickendorf.de Das Projekt resiART wird 
 gefördert aus Mitteln des bezirklichen Integrationsfonds des Bezirksamtes Rei
 nickendorf von Berlin. Der Integrationsfonds ist eine Maßnahme des Gesamtko
 nzepts zur Integration und Partizipation Geflüchteter des Senats von Berlin.\n
 \nViel Spass wünscht Gratis-in-Berlin\n\nLink zum Tip: \nZu den Gratis-in-Berli
 n Angeboten: http://www.gratis-in-berlin.de\n
DTSTART;VALUE=DATE:20231127
DTEND;VALUE=DATE:20231128
SUMMARY:Alles in Öl! Experimente mit Ölfarbe ? Malkurs mit Ercan Arslan
END:VEVENT
END:VCALENDAR
