BEGIN:VCALENDAR
VERSION:2.0
PRODID:-//Gratis-in-Berlin//NONSGML kigkonsult.se iCalcreator 2.14//
METHOD:PUBLISH
X-WR-CALNAME:Gratis-in-Berlin Tip Kalender
X-WR-CALDESC:Erhalte Gratis-in-Berlin Tips in deinem Kalender
BEGIN:VEVENT
UID:20260422T115928UTC-0980B5kf3M@Gratis-in-Berlin
DTSTAMP:20260422T115928Z
DESCRIPTION:10. Oktober bis 15. Dezember in Berlin-MarzahnPsychische Leiden
  sind eine unterschätzte Volkskrankheit und gegenüber Betroffenen gibt es oft Vor
 behalte. Das möchte die multidimensionalen Ausstellung Lebenslinien ändern. Int
 eressierte können hier Bilder und Skulpturen aus der Kunsttherapie sehen ? un
 d erleben\, wie sie entstanden sind.Die Kunstwerke zeugen anschaulich vom 
 Innenleben der Betroffenen und wie sie sich unterstützt von geschulten Kunsther
 apeut*innen damit auseinandergesetzt haben\, um zu genesen. Dazu begleiten
  Texte zum Lesen und Anhören die Werke\, indem Künstler*innen selbst zu Wort komme
 n. Die Informationen sind über QR-Codes mit dem Smartphone zugänglich. Bei Führungen s
 tellt die Ausstellungsmacherin Dr. Ina Keggenhoff die Kunstwerke persönlich v
 or und in Workshops kann man selbst kunsttherapeutische Methoden kennenler
 nen.Die Ausstellung ist zu erleben: 10. Oktober bis 15. Dezember im Kunst-
  und KulturCafé\, Alt-Marzahn 23\, 12568 Berlin. Der Eintritt ist frei. Work
 shops gibt es dienstags 10 bis 12 Uhr und Führungen dienstags 16 bis 18 Uhr und
  nach Vereinbarung unter lebens.linien@email.de. Die Vernissage findet sta
 tt am Dienstag\, 10. Oktober 2023 von 17 bis 19 Uhr. Mit einer Finissage a
 m Freitag\, 15. Dezember 2023 von 14 bis 16 Uhr endet die Ausstellung.Die 
 Ausstellung richtet sich besonders an:* Menschen\, die sich über das wichtige u
 nd vielfältige Thema ?seelische Gesundheit und Erkrankung? informieren möchten 
 (für Schulklassen werden altersgerechte Führungen angeboten)* Interessierte\, die et
 was über Kunsttherapie und die Verbindung von Kunst und seelischer Gesundheit e
 rfahren möchten* seelisch Erkrankte und ihre Angehörigen\, die eine wirksame The
 rapieform kennenlernen wollen* Psychotherapeut*innen\, Psychiater*innen od
 er Kunsttherapeut*innenAusstellungsmacherin Dr. Ina Keggenhoff ist Masters
 tudentin der Kunsttherapie an der Sigmund Freud PrivatUniversität Berlin. In
  der Ausstellung präsentieren vor allem Patienten und Patientinnen des Vivan
 tes Klinikum Kaulsdorf gemeinsam mit Selbsthilfegruppen aus Marzahn-Heller
 sdorf und Pankow ihre Arbeiten. Die Ausstellung ist ein Kooperationsprojek
 t der Sigmund Freud PrivatUniversität\, des Vivantes Klinikum Kaulsdorf und 
 der SEKIS (Selbsthilfe Kontakt- und Informationsstelle Berlin) und Teil de
 s Programms der ?Woche der Seelischen Gesundheit? vom Aktionsbündnis Seelische 
 Gesundheit\, dem bundesweit 150 Mitgliedsorganisationen angehören. Volkskrank
 heit ?Psychische Leiden?Fast 18 Millionen Deutsche sind jährlich von einer p
 sychischen Erkrankung betroffen. Gleichzeitig sind diese Leiden mit viel S
 cham besetzt und Betroffene sehen sich oft Vorbehalten ausgesetzt ? dabei 
 ist die Wahrscheinlichkeit hoch\, dass wir alle im Laufe des Lebens selbst
  betroffen sein könnten. Die Ausstellung Lebenslinien möchte daher: * mehr Bewus
 stsein\, Verständnis und soziale Anerkennung für Menschen mit seelischen Erkranku
 ngen schaffen und für einen Umgang ohne Vorbehalte werben* betroffenen Künstler*inne
 n helfen\, sich besser verstanden zu fühlen\, indem ihre Werke und die Geschich
 ten dahinter von möglichst vielen Menschen gesehen und erlebt werden* die Erf
 ahrungen von Erkrankten sichtbar machen und zeigen\, welche Ressourcen\, i
 nnere Potentiale und Kompetenzen\, ein Mensch im Leben für seine Genesung nutze
 n kann* die Rolle von Kreativität und den möglichen Beitrag von Kunsttherapie b
 eim Gesund-Bleiben und Gesund-Werden bewusster machenKunsttherapie bekannt
 er machenDie Kunsttherapie kann Betroffenen bei ihrer Genesung wirksam hel
 fen. Die Therapieform entwickelte sich ab Anfang bis Mitte des 20. Jahrhun
 derts besonders in den USA und im Vereinigten Königreich. In letzterem ist si
 e bereits zu einem festen Bestandteil im klinischen Gesundheitswesen gewor
 den und als Beruf gesetzlich geregelt. In Deutschland steckt diese Anerken
 nung noch in den Kinderschuhen\, so dass Kunsttherapie bis heute nicht zum
  Leistungskatalog der gesetzlichen Krankenkassen gehört.Die Ausstellung Leben
 slinien soll daher auch einen Beitrag leisten\, Kunsttherapie und ihre Wir
 kung bekannter zu machen. Neben den Kunstwerken und Künstler*innen ist so Thema
  der Ausstellung\, was Kunsttherapie ist\, wodurch sie wirkt und wie zum B
 eispiel eine Kunsttherapiestunde abläuft. Die angebotenen Workshops sollen d
 as mit praktischen Übungen persönlich erlebbar machen. Woher stammen die Kunst
 werke?Die Künstler*innen kommen aus verschiedenen Bereichen der Kunsttherapie. 
 Sie umfassen:* Patient*innen des Vivantes Klinikum Kaulsdorf aus Abteilung
 en wie Psychosomatik und Psychiatrischer Institutsambulanz* Klient*innen a
 us der ambulanten Kunsttherapie\, die selbständige Therapeut*innen in Einzel
 sitzungen in einer Praxis anbieten* kunsttherapeutisch begleitete Gruppen 
 der Selbsthilfe Marzahn-Hellersdorf und Pankow* angehende Kunsttherapeut*i
 nnen und Privatleute\, die mit Arbeiten positive Effekte für sich erzielen ? vo
 n der therapeutischen Selbsterfahrung bis zur Prävention\n\nViel Spass wünscht Gr
 atis-in-Berlin\n\nLink zum Tip: \nZu den Gratis-in-Berlin Angeboten: http:
 //www.gratis-in-berlin.de\n
DTSTART;VALUE=DATE:20231010
DTEND;VALUE=DATE:20231216
SUMMARY:Kunsttherapie wird lebendig: Ausstellung ?Lebenslinien? (Mo - Fr)
END:VEVENT
END:VCALENDAR
