BEGIN:VCALENDAR
VERSION:2.0
PRODID:-//Gratis-in-Berlin//NONSGML kigkonsult.se iCalcreator 2.14//
METHOD:PUBLISH
X-WR-CALNAME:Gratis-in-Berlin Tip Kalender
X-WR-CALDESC:Erhalte Gratis-in-Berlin Tips in deinem Kalender
BEGIN:VEVENT
UID:20260422T133600UTC-2064wwJGKX@Gratis-in-Berlin
DTSTAMP:20260422T133600Z
DESCRIPTION:14. Oktober 2023 - 17. November 2023Vernissage am 13.10.2023 um
  18:30 UhrDer Fotograf Maurice Lebrun lädt die künstliche Intelligenz des Malers 
 Henri Rousseau ein\, seine Fotos der Landes der Gascogne neu zu betrachten
 .Seit drei Jahren arbeitet Maurice Lebrun in Verbindung mit einem Archäologe
 n an einer Buchreihe\, die den Kulturraum dieser Region als Ausgangspunkt 
 nimmt. Ziel der Reihe ist es\, die wenig bekannte Geschichte dieses Landes
  zu vermitteln. In seiner Arbeit bekommen fotografische Werke historische\
 , archäologische\, soziologische\, geografische und geologische Untertöne. Der 
 erste Teil der Serie\, «Seuls Sous Les Pins»\, aus dem auch diese Ausstellun
 g hervorgeht\, konzentriert sich auf die Geschichte des größten Pinienwaldes 
 Europas\, seine industrielle Nutzung und seinen Niedergang. Ausgehend von 
 seinen eigenen Aufnahmen lädt Maurice Lebrun die künstliche Intelligenz dazu ein\
 , sich die «post-industrielle Landes» im Stil von Henri Rousseau vorzustelle
 n.Öffnungszeiten der Galerie Alice Guy: Dienstag 13:00 - 18:00 UhrMittwoch 
 14:00 - 18:00 UhrDonnerstag 13:00 - 18:00 UhrFreitag 13:00 - 18:00 UhrSams
 tag 11:00 - 17:00 Uhr\nEintritt frei.\n\nViel Spass wünscht Gratis-in-Berlin\n
 \nLink zum Tip: \nZu den Gratis-in-Berlin Angeboten: http://www.gratis-in-
 berlin.de\n
DTSTART;VALUE=DATE:20231014
DTEND;VALUE=DATE:20231118
SUMMARY:Ausstellung 'Seuls sous les pins' - Maurice Lebrun (Di - Sa)
END:VEVENT
END:VCALENDAR
