BEGIN:VCALENDAR
VERSION:2.0
PRODID:-//Gratis-in-Berlin//NONSGML kigkonsult.se iCalcreator 2.14//
METHOD:PUBLISH
X-WR-CALNAME:Gratis-in-Berlin Tip Kalender
X-WR-CALDESC:Erhalte Gratis-in-Berlin Tips in deinem Kalender
BEGIN:VEVENT
UID:20260420T141939UTC-3723vuglJC@Gratis-in-Berlin
DTSTAMP:20260420T141939Z
DESCRIPTION:KÜBRA BAGCI: DUCHAMP\, BUT FOR GIRLSDas Thema der Ausstellung is
 t der Übergang vom Mädchen zur Frau und dessen Akzeptanz.Die Arbeiten enthalt
 en ebenso Fragen zum Thema Kitsch\, dessen Potenzial zur Übertreibung\, ab 
 wann sich Handwerk von Kunst unterscheidet und die Interpretation von Male
 rei.Eintritt frei.Vernissage: Freitag\, den 13. Oktober 2023 ab 18 UhrAuss
 tellung vom 16.10. bis 3.11.2023\, Mo-Fr 10-18 UhrOrt: Kiezkunstwerkstatt 
 'made in wedding'\, Koloniestr. 120 in 13359 BerlinÖPNV:U 8/9 Osloer Straße 
 | Bus 255 Soldiner Str./Koloniestr. | Tram M 13 / 50 Drontheimer Str.\n\nV
 iel Spass wünscht Gratis-in-Berlin\n\nLink zum Tip: \nZu den Gratis-in-Berlin A
 ngeboten: http://www.gratis-in-berlin.de\n
DTSTART;VALUE=DATE:20231016
DTEND;VALUE=DATE:20231104
SUMMARY:Ausstellung 'Duchamp\, but for Girls' - Textile Objekte (Mo - Fr)
END:VEVENT
END:VCALENDAR
