BEGIN:VCALENDAR
VERSION:2.0
PRODID:-//Gratis-in-Berlin//NONSGML kigkonsult.se iCalcreator 2.14//
METHOD:PUBLISH
X-WR-CALNAME:Gratis-in-Berlin Tip Kalender
X-WR-CALDESC:Erhalte Gratis-in-Berlin Tips in deinem Kalender
BEGIN:VEVENT
UID:20260422T101206UTC-310430LVtT@Gratis-in-Berlin
DTSTAMP:20260422T101206Z
DESCRIPTION:Die Aktgalerie www.die-aktgalerie.de Krossener Straße 3410245 Be
 rlin Friedrichshain Fr / Sa / So 15 ? 19 Uhr3. ? 26. November 2023 Verniss
 age: Freitag\, 3.11.\, 19 Uhr ?Triggerwarnung? von Patrick Leader Eine vis
 uelle Reise in emotionale Landschaften\, wo Kunst übliche Grenzen durchdringt u
 nd tief in die menschliche Seele eintaucht! Diese immersive fotografische 
 Bildershow lädt ein\, an visuellen Erzählungen von bedeutsamen gefühlshaften Zustände
 n teilzunehmen!\n\nViel Spass wünscht Gratis-in-Berlin\n\nLink zum Tip: \nZu de
 n Gratis-in-Berlin Angeboten: http://www.gratis-in-berlin.de\n
DTSTART;VALUE=DATE:20231103
DTEND;VALUE=DATE:20231127
SUMMARY:Die Aktgalerie / 'Triggerwarnung' von Patrick Leader (Fr - So)
END:VEVENT
END:VCALENDAR
