BEGIN:VCALENDAR
VERSION:2.0
PRODID:-//Gratis-in-Berlin//NONSGML kigkonsult.se iCalcreator 2.14//
METHOD:PUBLISH
X-WR-CALNAME:Gratis-in-Berlin Tip Kalender
X-WR-CALDESC:Erhalte Gratis-in-Berlin Tips in deinem Kalender
BEGIN:VEVENT
UID:20260422T104815UTC-7898IRWpGF@Gratis-in-Berlin
DTSTAMP:20260422T104815Z
DESCRIPTION:Glueheads - Eine Berliner Odyssee ins UnwirklicheTeilnehmende K
 ünstler:innen:Anelor Robin ? | maycec | Jorge Chamorro | Caro Mantke | Lula Val
 letta | Natascha Frioud | D.M. Nagu | Lydia Mojzis | Niels Kalk | Isabel R
 eitemeyer | Aline Helmcke | Cédric Mantel | Maike Zimmermann | Clémentine Rett
 ig | Rinus van AlebeekGlueHeads (2014-2018) war ein zeitgenössisches Collage-
 Projekt\, das eine Gruppe von collagebegeisterten Künstler:innen\, viele Zeitsc
 hriften\, Scheren und Kleber und einen Hauch von guter Laune zusammenbrach
 te.Berlin ist die Stadt\, in der Anelor Robin das Projekt GlueHeads im Jah
 r 2014 startete. Sie ahnte nicht\, dass GlueHeads bis 2023 über das Projekt hin
 auswachsen und eine Gruppe von Freunden werden würde\, ein Berliner Collage-Kol
 lektiv\, dessen Klebstoff sie war und immer bleiben wird.Auch wenn das Pro
 jekt GlueHeads zusammen mit Anelor starb\, die plötzlich und unerwartet in Be
 rlin bei einem Berliner Verkehrsunfall tödlich verunglückt ist\, sind die GlueHead
 s als Kollektiv immer noch sehr aktiv. Anelors unendliche Neugierde und Gr
 oßzügigkeit bleibt bestehen. Ein GlueHead ist man ein Leben lang. Die Ausstellun
 g zeigt Collagen von Berliner GlueHeads\, Arbeiten von Anelor Robin und di
 e GlueHeads-Publikationen.Die Grundprinzipien des GlueHeads-Projekts waren
  so einfach wie wirkungsvoll: Ein Tag\, eine Ausstellung\, ein Heft. Für jede A
 usgabe des GlueHeads-Projekts brachte die Kuratorin Anelor Robin Künstler:innen
  zusammen\, die mit unterschiedlichen Collagetechniken arbeiten. Um jede A
 usstellung und das dazugehörige Zine einzigartig zu machen und das Konzept fr
 isch zu halten\, fand jede GlueHeads-Session in einer anderen Galerie mit 
 einer völlig neuen Gruppe von Künstler:innen statt. Tagsüber erstellten die Künstler:innen i
 n der Galerie die Collagen\, die am Ende des Tages dem Publikum gezeigt wu
 rden und die schließlich in der nächsten Ausgabe des GlueHeads-Zines landeten
 . Alle Künstler:innen brachten ihre eigenen Materialien mit\, aber der Schwerpu
 nkt lag auch auf dem Austausch\, der Zusammenarbeit und der Schaffung eine
 s kollektiven Eintopfs aus rohen und unerwarteten kreativen Zutaten\, aus 
 denen sie schöpfen konnten.Das GlueHeads-Zine sollte ausschließlich aus Collag
 en bestehen\, die am Tag selbst erstellt wurden. Das Zine sollte nicht nur
  diese flüchtigen Arbeiten dokumentieren\, sondern in Anbetracht des Mediums Zi
 ne auch als substanzielles und umfassendes Werk an sich betrachtet werden.
  Anelor organisierte die GlueHeads Ausgaben 1-5 in Berlin\, bevor sie mit 
 dem Konzept in die Türkei\, nach Marokko\, in den Iran und nach Belgrad in Serb
 ien reiste. Die GlueHeads Gemeinschaft (alle\, die jemals an einer GlueHea
 ds-Session teilgenommen haben oder dazu eingeladen wurden) umfasst 58 Künstler:
 innen aus ganz Europa\, Nordafrika und Asien.Die Ausstellung ist ein schil
 lernder\, bunter Mix aus Collagen. Die hier gezeigten Künstler:innen sind nur e
 in Teil der langjährigen Berliner GlueHeads: das Herzstück des Projekts. Sie alle
  teilen den GlueHead-Geist und sind wichtige Mitglieder der internationale
 n Collage-Community in Berlin. Von Soundcollagen über Tischdecken\, Schallplatt
 en\, Videocollagen und Analogcollagen bis hin zu Objekten aus Anelors Wund
 erkammer-Sammlungen ist alles dabei.Die Ausstellung wird von Lula Valletta
 \, ebenfalls GlueHead und Freundin von Anelor\, kuratiert. Um die Vielfalt
  und das Wachstum des GlueHeads-Projekts zu zeigen\, hat Lula eine 'umgeke
 hrte GlueHeads-Tour' unternommen\, indem sie jeden der KünstlerIn zu Hause oder
  in ihrem Atelier besuchte\, wo sie eine Auswahl an Collagen zusammenstell
 te\, von denen einige älter und einige ganz neu sind\, ganz im Sinne von Glu
 eHeads und Anelor. Den Anfang macht Anelors persönliches Archiv\, das zum ers
 ten Mal nach ihrem tödlichen Unfall vor vier Jahren zu sehen ist. Diese Ausst
 ellung\, die das zeitgenössische Collagenprojekt GlueHeads feiert\, ist ihrem
  Andenken gewidmet.\n\nViel Spass wünscht Gratis-in-Berlin\n\nLink zum Tip: \nZ
 u den Gratis-in-Berlin Angeboten: http://www.gratis-in-berlin.de\n
DTSTART;VALUE=DATE:20231118
DTEND;VALUE=DATE:20231210
SUMMARY:Glueheads - Eine Berliner Odyssee ins Unwirkliche (Mo - Sa)
END:VEVENT
END:VCALENDAR
