BEGIN:VCALENDAR
VERSION:2.0
PRODID:-//Gratis-in-Berlin//NONSGML kigkonsult.se iCalcreator 2.14//
METHOD:PUBLISH
X-WR-CALNAME:Gratis-in-Berlin Tip Kalender
X-WR-CALDESC:Erhalte Gratis-in-Berlin Tips in deinem Kalender
BEGIN:VEVENT
UID:20260420T130216UTC-1843xtLfhd@Gratis-in-Berlin
DTSTAMP:20260420T130216Z
DESCRIPTION:Vom 18. Oktober bis zum 11. November 2023 präsentiert die Kunstga
 lerie ?Kultur am See Bad Saarow e. V.? in den Kurpark Kolonnaden die zweit
 e Gastausstellung. Diesmal wird in der Reihe ?Saarow Kaleidoskop? Maria Bl
 ömer vorgestellt ? eine Künstlerin\, die in Bad Saarow zu Hause ist.Unter dem Name
 n ?Transformationen? beschreibt die Konzeptkünstlerin Maria Blömer malerisch den W
 andel und die Veränderung von Mensch und Natur. In den Werken werden sich be
 wegende\, sich verändernde Elemente und künstlerische Metamorphosen sichtbar. Bet
 rachtenden eröffnen sich neue Sichtweisen auf immer schon Existentes sowie zu
 weilen Verborgenes\, welche eine sensible Wahrnehmung der Realität aus einem
  anderen Blickwinkel bewirken. Die Umsetzung von Menschen- und Naturthemen
  ist Maria Blömer ein großes Anliegen.Die Ausstellung umfasst um die 30 Werke 
 der Künstlerin\, die ihre ?Inspiration aus der Natur am Scharmützelsee\, der Schönheit 
 der Alpen und der Luft an der Nordsee\, aber auch aus Menschenrechtsthemen
 \, politischen Aspekten und religiösen Themen bezieht'\, wie sie selbst erklärt
 .Kunstgalerie ?Kultur am See Bad Saarow e. V.?Kurpark Kolonnaden\, Ulmenst
 r. 4\, 15526 Bad SaarowÖffnungszeiten: Do &amp\; Fr: 15?18 Uhr\, Sa: 14?18 
 UhrFührungen mit Maria Blömer sind nach Vereinbarung möglich.&nbsp\;Anfragen bitte an
  info@kulturamsee-badsaarow.de\, der Verein leitet diese an die Künstlerin weit
 er.\n\nViel Spass wünscht Gratis-in-Berlin\n\nLink zum Tip: \nZu den Gratis-in-
 Berlin Angeboten: http://www.gratis-in-berlin.de\n
DTSTART;VALUE=DATE:20231018
DTEND;VALUE=DATE:20231112
SUMMARY:Ausstellung ?Transformationen? von Maria Blömer in Bad Saarow (Do - Sa
 )
END:VEVENT
END:VCALENDAR
