BEGIN:VCALENDAR
VERSION:2.0
PRODID:-//Gratis-in-Berlin//NONSGML kigkonsult.se iCalcreator 2.14//
METHOD:PUBLISH
X-WR-CALNAME:Gratis-in-Berlin Tip Kalender
X-WR-CALDESC:Erhalte Gratis-in-Berlin Tips in deinem Kalender
BEGIN:VEVENT
UID:20260420T130217UTC-5679v1Kwkv@Gratis-in-Berlin
DTSTAMP:20260420T130217Z
DESCRIPTION:31.10.-11.11.2023EMMA LARKOVUOumbreon (Glühende Tränen über Flammen)***Ich 
 gehe in einen düsteren Wald\, in dem Teufel durch neblige Schatten laufenUnd wo
  unsere Seelen sich im Schlaf küssen\,Ich habe Angst davor\, zu vergessen\,Wie 
 man LiebeAls ein Todesritual sieht: Sich mit Blumen zu verabschieden\,Wenn
  die Liebe nicht mehr lebt\,Um ihr eine Wiedergeburt zu gebenIch gleiche e
 iner Wildkatze. Ich schleiche intuitiv und schnell\,Ich jage die Flammen\,
 Die aus deiner Asche hervorgehenUnd jedes Mal\, wenn ich von dir träume\,Wir
 d ein Engel leibhaftigumbreon (Glühende Tränen über Flammen) handelt von Liebe und Ang
 st\, Softcore und Abgeschiedenheit. Es gibt ein Pokémon mit dem Namen Umbreo
 n\; Es wurde geboren\, als es dem Mondlicht ausgesetzt wurde. Es ist myste
 riös und unabhängig\, es versteckt sich im Schatten und lauert leise. Eines Abe
 nds war ich im Internet unterwegs und googelte es aus irgendeinem Grund. I
 ch fand es faszinierend - und so wurde es zu meiner Muse in dieser Ausstel
 lung.Emma Larkovuo ist eine bildende Künstlerin aus Helsinki. Sie arbeitet mit 
 weichen Pastellzeichnungen\, Texten und Klangkunst und ist in der Schmuckh
 erstellung tätig. Ihre Texte sind eine Mischung aus Poesie und Kurzprosa\, d
 ie sie mit Ambientmusik verbindet\, um Klangwelten mit gesprochenen Worten
  zu kreieren.?Ich bin an Objekten\, Formen und Kontrasten interessiert\; V
 erspieltheit und Melancholie\, Hässlichkeit und Schönheit\, weich und hart\, Tr
 äume und Wirklichkeit. Bei meiner Arbeit bin ich gerne ungezähmt und witzig. I
 ch erkunde oft Themen wie Abgeschiedenheit\, Verzerrung\, Mystik\, ausgeda
 chte Orte\, Alter Egos und Entfremdung [das Gefühl des Nichtdazugehörens].?***i wa
 lk into the gloomy forest where devils run through misty shadowsand where 
 our souls kiss during sleepi fear i forgethow to see loveas a death ritual
 : to farewell it with flowerswhen it doesn't breathe anymoreto give it a r
 ebirth all over againi resemble a wildcat. i slink intuitively and fasti p
 rey on the flamesthat arise from your ashesand everytime i dream of youan 
 angel incarnatesumbreon (glowing tears over flames) is about love and fear
 \, softcore and solitude. There's aPokémon called Umbreon\; it was born when
  exposed to the moonlight. It's mysterious andindependent\, it blends into
  the shadows and lurks quietly. I was surfing on the Internet one eveningw
 hen I somehow ended up googling it and found it very intriguing ? it becam
 e my muse in thisexhibition.Emma Larkovuo is a Helsinki-based visual artis
 t. She works with soft pastel drawing\, writing\,jewellery making and soun
 d art. Her writing consists of poetry and short prose that she alsocombine
 s with her ambient music\, turning it into spoken word soundscapes.?I'm in
 terested in objects\, forms and contrasts\; playfulness and melancholia\, 
 ugliness and beauty\,soft and harsh\, dreams and reality. I like to get fe
 ral and funny in my practice\, where I often explorethemes such as solitud
 e\, distortion\, mysticism\, imaginary places\, alter egos and estrangemen
 t[feeling of not belonging].?Instagram: goottikeiju\n\nViel Spass wünscht Grati
 s-in-Berlin\n\nLink zum Tip: \nZu den Gratis-in-Berlin Angeboten: http://w
 ww.gratis-in-berlin.de\n
DTSTART;VALUE=DATE:20231101
DTEND;VALUE=DATE:20231112
SUMMARY:Ausstellung: Emma Larkovuo (glowing tears over flames) Di - Sa
END:VEVENT
END:VCALENDAR
