BEGIN:VCALENDAR
VERSION:2.0
PRODID:-//Gratis-in-Berlin//NONSGML kigkonsult.se iCalcreator 2.14//
METHOD:PUBLISH
X-WR-CALNAME:Gratis-in-Berlin Tip Kalender
X-WR-CALDESC:Erhalte Gratis-in-Berlin Tips in deinem Kalender
BEGIN:VEVENT
UID:20260422T101716UTC-6122JUR5ZU@Gratis-in-Berlin
DTSTAMP:20260422T101716Z
DESCRIPTION:METAPHYSISCHE PUTZFRAUENMalerei von Andrea HarborthAusstellung 
 in Berlin\, 10.-19. November 2023 ? auf 550 m²Finissage ? 18.11.2023\, 14h-
 20hVernissage ? 11.11.2023\, 18h-22hgeöffnet täglich von 14h-20h oder nach Absp
 racheCulterim GalleryBrunnenstr. 10713355 Berlin3 Gehminuten von S-Bahn Ge
 sundbrunnen entfernt.\n\nViel Spass wünscht Gratis-in-Berlin\n\nLink zum Tip: h
 ttps://www.gratis-in-berlin.de/kalender/item/2064104-finissage-metaphysisc
 he-putzfrauen\nZu den Gratis-in-Berlin Angeboten: http://www.gratis-in-ber
 lin.de\n
DTSTART;VALUE=DATE:20231118
DTEND;VALUE=DATE:20231119
SUMMARY:Finissage: Metaphysische Putzfrauen
END:VEVENT
END:VCALENDAR
