BEGIN:VCALENDAR
VERSION:2.0
PRODID:-//Gratis-in-Berlin//NONSGML kigkonsult.se iCalcreator 2.14//
METHOD:PUBLISH
X-WR-CALNAME:Gratis-in-Berlin Tip Kalender
X-WR-CALDESC:Erhalte Gratis-in-Berlin Tips in deinem Kalender
BEGIN:VEVENT
UID:20260420T143202UTC-2557UGNU1N@Gratis-in-Berlin
DTSTAMP:20260420T143202Z
DESCRIPTION:Die Werke des Bildhauers Karl Menzen kennen viele\, denn sie st
 ehen zumeist nicht in Museen\, sondern für alle sichtbar im öffentlichen Raum. Ein
 s seiner Metall-Kunstwerke befindet sich in luftiger Höhe auf dem Turm am Kai
 serdamm 6a: ?Turmspitze mit Flügeln?\, ein anderes\, eine weitere Dachskulptur 
 'Von allen Seiten schön' am Kurfürstendamm 46/Ecke Bleibtreustrasse.Der Tagesspieg
 el titelte anlässlich einer Retrospektive der Werke des Künstlers vor zwei Jahren
 : ?Von der Poesie der Geometrie?.Am 19. November 2020 war Karl Menzen überrasch
 end gestorben. Seine letzte Ruhe fand er auf dem Alten Zwölf-Apostel-Kirchhof
  in Schöneberg. Ein mehr als würdiger Ort für den Künstler\, denn auf diesem Friedhof liegen
  viele bedeutende Künstler und Bildhauer wie Reinhold Begas\, Anton von Werner\
 , Ernst Herter\, Robert Warthmüller\, Friedrich Schröder Sonnenstern um nur einige
  zu nennen.Lisa Menzen\, die Witwe des Künstlers\, hat dem Kirchhof aus dem Nac
 hlass ihres Mannes eine Skulptur überlassen\, die in unmittelbarer Nähe seines Gr
 abes aufgestellt wird. 'Transformation-Kreuz' ist der Name der 2004 entsta
 ndenen\, 2 Meter hohen Stahlskulptur. Am 3. Todestag Menzens wird das Kuns
 twerk auf dem Kirchhof feierlich enthüllt.Gleichzeitig wird im Foyer der Kapell
 e eine Ausstellung eröffnet\, in der Skizzen\, Monotypienund kleinere Skulptu
 ren des Künstlers gezeigt werden.Im Rahmenprogramm wird es eine Würdigung des künstlerisc
 hen Werks von KarlMenzen durch Prof. Dr. Bodo Zelinsky von der Universität K
 öln geben. Dr. Martin Steffensvon der Kulturstiftung Britz wird zum Thema ?Ku
 nst im öffentlichen Raum und Karl Menzen?sprechen. Im Anschluss wird zu einem
  Empfang eingeladen.\n\nViel Spass wünscht Gratis-in-Berlin\n\nLink zum Tip: \n
 Zu den Gratis-in-Berlin Angeboten: http://www.gratis-in-berlin.de\n
DTSTART;VALUE=DATE:20231119
DTEND;VALUE=DATE:20231120
SUMMARY:Transformation Feierliche Enthüllung einer Skulptur von Karl Menzen (195
 0-2020) und Ausstellungseröffnung
END:VEVENT
END:VCALENDAR
