BEGIN:VCALENDAR
VERSION:2.0
PRODID:-//Gratis-in-Berlin//NONSGML kigkonsult.se iCalcreator 2.14//
METHOD:PUBLISH
X-WR-CALNAME:Gratis-in-Berlin Tip Kalender
X-WR-CALDESC:Erhalte Gratis-in-Berlin Tips in deinem Kalender
BEGIN:VEVENT
UID:20260424T100153UTC-3378eVWMUc@Gratis-in-Berlin
DTSTAMP:20260424T100153Z
DESCRIPTION:Am 21.11. um 17:00 Uhr kommt Silja Korn zu uns in die Pauline u
 nd erzählt über ihre Bilder und ihre Art zu Malen als blinde Künstlerin. Um 18:00 Uhr 
 gibt es dann ein gemeinsames Essen. Alle sind herzlich eingeladen.Weitere 
 Infos zur Künstlerin findest du auf ihrer Website.Weitere Veranstaltungen des S
 tadtteilzentrums findest du außerdem auf unserer Website:&nbsp\;https://vol
 kssolidaritaet-berlin.de/einrichtungen/stadtteilzentrum-friedrichshain/Bei
  Rückfragen oder Unklarheiten wende dich gern an uns unter stz-friedrichshain@v
 olkssolidaritaet.de oder 030/403 66 11 27.Wir freuen uns auf dich!\n\nViel
  Spass wünscht Gratis-in-Berlin\n\nLink zum Tip: https://www.gratis-in-berlin.d
 e/kalender/item/2064186-finissage-gemeinsames-essen\nZu den Gratis-in-Berl
 in Angeboten: http://www.gratis-in-berlin.de\n
DTSTART;VALUE=DATE:20231121
DTEND;VALUE=DATE:20231122
SUMMARY:Finissage & gemeinsames Essen
END:VEVENT
END:VCALENDAR
