BEGIN:VCALENDAR
VERSION:2.0
PRODID:-//Gratis-in-Berlin//NONSGML kigkonsult.se iCalcreator 2.14//
METHOD:PUBLISH
X-WR-CALNAME:Gratis-in-Berlin Tip Kalender
X-WR-CALDESC:Erhalte Gratis-in-Berlin Tips in deinem Kalender
BEGIN:VEVENT
UID:20260422T084041UTC-255357UNvf@Gratis-in-Berlin
DTSTAMP:20260422T084041Z
DESCRIPTION:Annabel Schlusche stellt ihre neuesten Werke aus (Acryl auf Lei
 nwand).Für den musikalischen Rahmen sorgen Juliet July (Melodica) und Andjey Po
 zdin (Gitarre)\n\nViel Spass wünscht Gratis-in-Berlin\n\nLink zum Tip: https://
 www.gratis-in-berlin.de/kunst/item/2064207-vernissage-farben-fantasien\nZu
  den Gratis-in-Berlin Angeboten: http://www.gratis-in-berlin.de\n
DTSTART;VALUE=DATE:20231113
DTEND;VALUE=DATE:20231114
SUMMARY:Vernissage Farben.Fantasien
END:VEVENT
END:VCALENDAR
