BEGIN:VCALENDAR
VERSION:2.0
PRODID:-//Gratis-in-Berlin//NONSGML kigkonsult.se iCalcreator 2.14//
METHOD:PUBLISH
X-WR-CALNAME:Gratis-in-Berlin Tip Kalender
X-WR-CALDESC:Erhalte Gratis-in-Berlin Tips in deinem Kalender
BEGIN:VEVENT
UID:20260422T101340UTC-4411mv1Rti@Gratis-in-Berlin
DTSTAMP:20260422T101340Z
DESCRIPTION:Mit künstlerischen Positionen von Peter Weibel\, Mark Lammert\, Chri
 stian Pilz und dem Künstlerduo Charlotte Dachroth &amp\; Ole JeschonnekKuratier
 t von Frizzi KrellaLa couleur n?est pas ce qui m?intéresse.C?est la lumière qu
 e je recherche. (Mark Rothko)(Es ist nicht die Farbe\, die mich interessie
 rt. Es ist das Licht\, das ich suche.)Mit dem Titel LUX AETERNA stellt die
  Ausstellung sowohl das Licht als künstlerisches Medium als auch seine gleichze
 itige Anwesenheit und Abwesenheit in den Mittelpunkt. Nur vier künstlerische Po
 sitionen stehen sich dabei gegenüber und überführen das ?ewige Licht? in ein Schwing
 en von Raum und Zeit.Die Ausstellung ist Teil des Forum Guardini. Das Foru
 m Guardini ist eine Kooperation der Katholischen Akademie in Berlin e. V. 
 und der Guardini Stiftung e. V.Die Ausstellung LUX AETERNA läuft vom 20. Nov
 ember 2023 bis zum 2. Februar 2024 und ist montags bis freitags von 13:00 
 bis 18:00 Uhr geöffnet. Eintritt frei.Die Guardini Galerie bleibt zwischen de
 n Jahren geschlossen und öffnet wieder am 2. Januar 2024.\n\nViel Spass wünscht Gr
 atis-in-Berlin\n\nLink zum Tip: https://www.gratis-in-berlin.de/kalender/i
 tem/2064242-vernissage-lux-aeterna\nZu den Gratis-in-Berlin Angeboten: htt
 p://www.gratis-in-berlin.de\n
DTSTART;VALUE=DATE:20231117
DTEND;VALUE=DATE:20231118
SUMMARY:Vernissage | Lux aeterna
END:VEVENT
END:VCALENDAR
