BEGIN:VCALENDAR
VERSION:2.0
PRODID:-//Gratis-in-Berlin//NONSGML kigkonsult.se iCalcreator 2.14//
METHOD:PUBLISH
X-WR-CALNAME:Gratis-in-Berlin Tip Kalender
X-WR-CALDESC:Erhalte Gratis-in-Berlin Tips in deinem Kalender
BEGIN:VEVENT
UID:20260420T130640UTC-9462pFRg24@Gratis-in-Berlin
DTSTAMP:20260420T130640Z
DESCRIPTION:14.11.-25.11.2023Karhulahti &amp\; Salmi:Piirros - A Drawing - 
 Eine ZeichnungVernissage: 14.11. 19-21 UhrDie Ausstellung ist offen und Künstle
 r/innen präsentieren ihre Kunst von Dienstag bis Samstag 15 - 19 UhrKünstlerversa
 mmlung: 22.11.\, 23.11. und 24.11. um 17 UhrGalerie PleikuEugen-Schönhaar-Str
 asse-6a10407 BERLINDi-Sa 15-19Uhr***Die bildnerische Künstlerin Maijariitta Kar
 hulahti und die multidisziplinäre Künstlerin Anne Salmi werden zwei Wochen in der
  Galerie Pleiku verbringen und Zeicheninstallationen mit Licht und Textile
 lementen kreieren\, die die gesamte Galerie bedecken werden. Die Installat
 ion wird wachsen und sich durch die Interaktion zwischen den beiden Künstlerinn
 en und unterschiedlichen künstlerischen Ausdrücken entwickeln. Der Kern der Arbeit i
 st die nicht-verbale Kommunikation\, bei der Farben\, Licht\, Schatten\, L
 inien und Oberflächen den Dialog und das Ergebnis des Vorgangs steuern. Für das P
 ublikum bietet die Installation sich täglich verändernde visuelle Erfahrungen 
 an.Während der Ausstellungszeit laden Karhulahti und Salmi das Publikum zum 
 gemeinsamen Diskutieren und Erfahren ein. Die Gespräche finden auf Englisch 
 statt.Maijariitta Karhulahti (MA Kultur und Kunst) ist eine bildende Künstlerin
  aus Kuopio\, Finnland. Karhulahti arbeitet hauptsächlich mit recycelten Mat
 erialien und Objekten. Das Gefühl der Materialien und Erinnerungen\, Bilder und
  Emotionen\, die sie hervorrufen\, sind wesentlich für ihre Arbeit. Auch die Or
 ientierung auf die Aufführungen\, die Empathie und mehrere sensorische Werke si
 nd zusammen mit ihrer Methodik beachtenswert. Ihre Werke werden durch Text
 ilien\, Intergenerationalität und der Vorstellung des menschlichen Schicksal
 s verbunden.http://www.maijariittakarhulahti.comAnne Salmi ist eine Künstlerin\
 , die mit verschiedenen Medien arbeitet. Ihre Werke beschäftigen sich mit Th
 emen wie der menschlichen Kommunikation und Trauma. Sie arbeitet hauptsächli
 ch mit Tanz\, Theater und Lichtkunst. Salmi findet\, dass Kunst eine großar
 tige Methode ist\, um ein Gespräch über schwere Themen zu starten und diese ins L
 icht zu rücken.Unterstützer:Die Ausstellung wird von Culture Moves Europe und dem Ku
 nstförderungscenter Finnland / dem Regionalem Kunstrat von Nordsavo unterstützt.Ha
 ftungsausschluss: Diese Werke wurden mit der finanziellen Unterstützung der eur
 opäischen Union kreiert. Die ausgedrückten Ansichten spiegeln nicht die offiziell
 e Meinung der europäischen Union wider.***Opening: 14.11. at 7-9 pmExhibitio
 n open and artists present from Tuesday to Saturday 3 pm - 7 pmArtist gath
 erings: 22.11.\, 23.11. and 24.11. at 5 pmVisual artist Maijariitta Karhul
 ahti and multidisciplinary artist Anne Salmi will spend two weeks in Galer
 ie Pleiku creating a drawing installation made with light and textile elem
 ents covering the entire gallery space. The installation will grow and dev
 elop in interaction between two artists and differing artistic expressions
 . At the heart of the work is non-verbal communication where color\, light
 \, shadows\, lines and surfaces guide the dialogue and the outcome of the 
 process. For the audience the installation offers a daily changing visual 
 experience. At the opening of the exhibition the artists will present a de
 mo of their collaborative working method. During the exhibition period Kar
 hulahti and Salmi invite the audience to gatherings to share\, discuss and
  experience together. Conversations are held in English.Maijariitta Karhul
 ahti (MA Culture and Arts) is a visual artist based in Kuopio\, Finland. K
 arhulahti works mainly with recycled materials and objects. The feel of th
 e material and the associations it brings with memories\, images and feeli
 ngs are intrinsic to her work. Also orientation toward performances\, empa
 thizing and multiple sensory works have become notable in her methodology.
  Her works are woven together by textiles\, intergenerationality and imagi
 nations on the fates of human beings. www.maijariittakarhulahti.comAnne Sa
 lmi is an artist who works in different mediums. The themes on human commu
 nication and trauma can be found in her works. She mainly works in the fie
 lds of dance\, theatre and light art. Salmi finds that art is a great way 
 to start conversations about hard topics and bring them to light.Supporter
 s:The exhibition is supported by Culture Moves Europe and Arts Promote Cen
 tre Finland / Regional Arts Council of North SavoDisclaimer: This work was
  produced with the financial assistance of the European Union. The views e
 xpressed herein can in no way be taken to reflect the official opinion of 
 the European Union.***\n\nViel Spass wünscht Gratis-in-Berlin\n\nLink zum Tip: 
 \nZu den Gratis-in-Berlin Angeboten: http://www.gratis-in-berlin.de\n
DTSTART;VALUE=DATE:20231115
DTEND;VALUE=DATE:20231126
SUMMARY:Ausstellung: Karhulahti & Salmi:  Piirros - A Drawing - Eine Zeichn
 ung (Di - Sa)
END:VEVENT
END:VCALENDAR
