BEGIN:VCALENDAR
VERSION:2.0
PRODID:-//Gratis-in-Berlin//NONSGML kigkonsult.se iCalcreator 2.14//
METHOD:PUBLISH
X-WR-CALNAME:Gratis-in-Berlin Tip Kalender
X-WR-CALDESC:Erhalte Gratis-in-Berlin Tips in deinem Kalender
BEGIN:VEVENT
UID:20260422T122954UTC-3240mSITMv@Gratis-in-Berlin
DTSTAMP:20260422T122954Z
DESCRIPTION:Kunst verschenken ? Künstler:innen fördernIn der Vorweihnachtszeit find
 et im PopUpStore in den Schönhauser Allee Arcaden eine große Kunst-Verkaufsaus
 stellung statt\, in der man Arbeiten zeitgenössischer Künstler:innen aus Pankow er
 werben kann ? über 100 Kunstschaffende bieten mehr als 300 Arbeiten zum Kauf an
 . ?Die artothek berlin lädt am Black-Friday-Wochenende mit einer Gutscheinak
 tion für die Ausleihe von Kunstwerken in die Podcast-Lounge ein. PopUpStore?Ver
 kaufsausstellung?bis 23. Dezember 2023?Öffnungszeiten: Mittwoch?Freitag\, 1
 5?19 Uhr\, Samstag 11?19 Uhrartspring berlin präsentiert mit der Verkaufssch
 au eine große künstlerische Auswahl mit zahlreich vertretenen Pankower Künstler:innen
 . Beim Stöbern kann man Geschenkinspirationen sammeln und sich zugleich mit d
 er bezirklichen Kunstszene vertraut machen. Das mediale Spektrum reicht vo
 n Zeichnung und Grafik bis zur Fotografie und bietet mit Porträts\, Landscha
 ften\, Illustrationen\, naiven Darstellungen und abstrakten Arbeiten eine 
 Vielfalt an Bildsujets an. Im Gegensatz zu kommerziellen Galerien und Weih
 nachtsauktionen\, in denen den Urheber:innen nur ein Teil der Einnahmen zu
 kommt\, fließt hier der gesamte Erlös direkt an die Künstler:innen. Bei erschwingli
 chen Verkaufspreisen ist für jeden Geldbeutel etwas dabei.artothek berlinPodcas
 t-Lounge und Gutschein-AktionBlack-Friday-Wochenende: 24. November\, 15?19
  Uhr / 25. November\, 12?18 UhrDie artothek berlin lädt mit einer Podcast-Lo
 unge zum Anhören von Artist Talks ein und bietet Gutscheine für die Ausleihe künstleris
 cher Arbeiten. Mit einem Gutschein kann man für den Zeitraum von drei bzw. sech
 s Monaten ein Kunstwerk direkt aus dem Atelier mit nach Hause nehmen. Durc
 h den Kontakt mit den Künstler:innen erfährt man mehr über den künstlerischen Ansatz und de
 n Hintergrund der Entstehung einer Arbeit. Zur Auswahl steht zeitgenössische 
 Kunst der Gattungen Malerei\, Zeichnung\, Grafik und Skulptur. Mit dieser 
 nachhaltigen Geschenkidee wird eine ästhetische Erfahrung weitergegeben und 
 zugleich werden lokale Künstler:innen gefördert.Nähere Informationen unter www.artsp
 ring.berlin und www.artothek.berlin\n\nViel Spass wünscht Gratis-in-Berlin\n\nL
 ink zum Tip: https://www.gratis-in-berlin.de/kunst/item/2064366-verkaufsau
 sstellung\nZu den Gratis-in-Berlin Angeboten: http://www.gratis-in-berlin.
 de\n
DTSTART;VALUE=DATE:20231122
DTEND;VALUE=DATE:20231224
SUMMARY:Verkaufsausstellung
END:VEVENT
END:VCALENDAR
