BEGIN:VCALENDAR
VERSION:2.0
PRODID:-//Gratis-in-Berlin//NONSGML kigkonsult.se iCalcreator 2.14//
METHOD:PUBLISH
X-WR-CALNAME:Gratis-in-Berlin Tip Kalender
X-WR-CALDESC:Erhalte Gratis-in-Berlin Tips in deinem Kalender
BEGIN:VEVENT
UID:20260420T094357UTC-1930lXUfPM@Gratis-in-Berlin
DTSTAMP:20260420T094357Z
DESCRIPTION:KATJA PUDOR wird im ZF Projektraum zusammen mit der bekannten P
 erformance und Soundkünstlerin TANIA ELSTERMEYER am Donnerstag 23.11 den Kunstr
 aum bespielen. Ein experimenteller Austausch auf Höchstkonzentrationsebene de
 m man beiwohnen kann. Um pünktliches Erscheinen wird gebeten. Wir freuen uns au
 f einen interessanten Abend.Katja Pudor arbeitet an der Schnittstelle zwis
 chen Zeichnung und Performance. In ihren klangbasierten Zeichnungen unters
 ucht Pudor die Wirkung von Klang/Klang: Wie ist das Verhältnis von Klang und
  Körper und dessen Spannung auf den Hörsinn? Wie verhält sich der Körper\, der selbst
  ein Resonanzkörper ist\, mit seinen inneren Schwingungen und äußeren Spannunge
 n zueinander? Das Format der Performance ermöglicht es ihr\, Prozesse des vis
 uellen Handelns in ihrer zeitlichen und räumlichen Dimension unmittelbar sic
 htbar zu machen. Der performativ-zeichnerische Prozess ist die Verbindung 
 von Jetzt-Zuständen\, die sich aus einer inneren Notwendigkeit\, aus der unm
 ittelbaren Wahrnehmung heraus zusammenfinden. Der Körper als Echokammer (Jean
 -Luc Nancy)KATJA PUDOR will perform in the ZF project space together with 
 the well-known performance and sound artist TANIA ELSTERMEYER on Thursday\
 , November 23. An experimental exchange at the highest level of concentrat
 ion that you can attend. Please arrive on time. We are looking forward to 
 an interesting evening.Katja Pudor works at the interface between drawing 
 and performance. In her sound-based drawings\, Pudor examines the effect o
 f sound/sound: what is the relationship between sound and the body and its
  tension on the sense of hearing? How does the body\, which is itself a re
 sonating body\, with its inner vibrations and outer tensions relate to eac
 h other? The performance format enables her to make processes of visual ac
 tion directly visible in their temporal and spatial dimensions. The perfor
 mative-drawing process is the connection of now-states that come together 
 from an inner necessity\, from direct perception. the concentration is dir
 ected exclusively towards the coming actions. Der Körper als Echokammer (Jean
 -Luc Nancy)ZF Projektraum Berlin\, 18. November - 10. December 2023Le temp
 s. L´espace. Le corps.Interventions Wednesday + Thursday\, 6 - 8 pmMove in\
 , 17. November\, 6 - 9 pmSet up\, 24. November\, 6 - 8 pmGuests:TANIA ELST
 ERMEYER\, 23. November\, 6 - 8 pmMALOU THEANO HENDEL\, 29. November\, 6 - 
 8 pmCHRISTL MUDRAK\, 7. Dezember\, 6 - 8 pmClean up\, 10. Dezember\, 6 - 8
  pmZF Projektraum Berlin\, Harzer Str. 91\, 12056 BerlinAbout TANIA ELSTER
 MEYER:https://www.instagram.com/taniaelstermeyer/?hl=deKatja Pudor: http:/
 /www.katjapudor.de\n\nViel Spass wünscht Gratis-in-Berlin\n\nLink zum Tip: \nZu
  den Gratis-in-Berlin Angeboten: http://www.gratis-in-berlin.de\n
DTSTART;VALUE=DATE:20231123
DTEND;VALUE=DATE:20231124
SUMMARY:Katja Pudor X Tania Elstermeyer Sound & Performance
END:VEVENT
END:VCALENDAR
