BEGIN:VCALENDAR
VERSION:2.0
PRODID:-//Gratis-in-Berlin//NONSGML kigkonsult.se iCalcreator 2.14//
METHOD:PUBLISH
X-WR-CALNAME:Gratis-in-Berlin Tip Kalender
X-WR-CALDESC:Erhalte Gratis-in-Berlin Tips in deinem Kalender
BEGIN:VEVENT
UID:20260420T094353UTC-7576cuOHUt@Gratis-in-Berlin
DTSTAMP:20260420T094353Z
DESCRIPTION:Die Kommunale Galerie Bärenzwinger richtet in der letzten Ausstel
 lung des Jahresprogramms »Gleaning« seinen Blick nach innen wie nach außen\, 
 auf seine soziale und kulturelle Position im stadträumlichen Umfeld. »Address
 ing« versteht sich als Versuch\, die eigene Rolle als Kunstinstitution in d
 er nördlichen Luisenstadt zu reflektieren. Die beiden Kollektive POLIGONAL un
 d spätispäti wurden eingeladen\, um einerseits das stadträumliche Umfeld künstlerisch
  wie stadtsoziologisch zu erforschen und anderseits den Bärenzwinger verstärkt
  für Nachbar:innen zu öffnen\, sichtbarer zu machen sowie als Ort der Teilnahme zu
  aktivieren.\n\nViel Spass wünscht Gratis-in-Berlin\n\nLink zum Tip: https://ww
 w.gratis-in-berlin.de/kunst/item/2065187-ausstellung-addressing\nZu den Gr
 atis-in-Berlin Angeboten: http://www.gratis-in-berlin.de\n
DTSTART;VALUE=DATE:20231110
DTEND;VALUE=DATE:20231111
SUMMARY:Ausstellung »Addressing«
END:VEVENT
END:VCALENDAR
