BEGIN:VCALENDAR
VERSION:2.0
PRODID:-//Gratis-in-Berlin//NONSGML kigkonsult.se iCalcreator 2.14//
METHOD:PUBLISH
X-WR-CALNAME:Gratis-in-Berlin Tip Kalender
X-WR-CALDESC:Erhalte Gratis-in-Berlin Tips in deinem Kalender
BEGIN:VEVENT
UID:20260420T163328UTC-38897sMIMV@Gratis-in-Berlin
DTSTAMP:20260420T163328Z
DESCRIPTION:?Picasso ? Werke aus der Sammlung Klewan? im Gutshaus Steglitz'
 Die stilistische Vielfalt und kreative Entwicklung Picassos\, die oft spru
 nghaft anmutet und gleichwohl konsequent ist\, spiegeln die ca. 60 Papiera
 rbeiten in der Ausstellung im Gutshaus Steglitz. Sie stammen aus der Samml
 ung Klewan (München ? Wien). Ihre Entstehungszeit reicht von den 1910er bis in 
 die 1970er Jahre und so veranschaulichen sie Picassos lebenslanges Experim
 entieren. Im Gutshaus Steglitz haben die Besucher*innen der Ausstellung di
 e Gelegenheit\, Picassos Werke in der intimen Umgebung eines frühklassizistisch
 en Herrenhauses zu erleben.'Textquelle Pressemeldung\n\nViel Spass wünscht Grat
 is-in-Berlin\n\nLink zum Tip: \nZu den Gratis-in-Berlin Angeboten: http://
 www.gratis-in-berlin.de\n
DTSTART;VALUE=DATE:20240307
DTEND;VALUE=DATE:20240930
SUMMARY:Picasso Ausstellung im Gutshaus Steglitz (99 % täglich)
END:VEVENT
END:VCALENDAR
