BEGIN:VCALENDAR
VERSION:2.0
PRODID:-//Gratis-in-Berlin//NONSGML kigkonsult.se iCalcreator 2.14//
METHOD:PUBLISH
X-WR-CALNAME:Gratis-in-Berlin Tip Kalender
X-WR-CALDESC:Erhalte Gratis-in-Berlin Tips in deinem Kalender
BEGIN:VEVENT
UID:20260424T163425UTC-9245D9dSud@Gratis-in-Berlin
DTSTAMP:20260424T163425Z
DESCRIPTION:Wir werden die Grundlagen des Nähens mit Hand und an der Nähmaschin
 e erlernen. Ihr könnt ein Kissen\, ein Stofftier\, oder auch einen Stoffbeute
 l selbst kreieren. Wer ein Kleidungsstück herstellen möchte\, bringt bitte das ent
 sprechende Schnittmuster mit. Die entstandenen Stücke können in einem anschließende
 n Kurs bemalt werden. Der Eintritt ist bei allen Veranstaltungen frei. Arb
 eitsmaterialien sind vorhanden. Für die Kurse sind keine Vorkenntnisse erforder
 lich. Weitere Informationen unter: 030/28032996\; resiart@aufwind-berlin.d
 e Das Projekt resiART wird gefördert aus Mitteln des bezirklichen Integration
 sfonds des Bezirks Reinickendorf. Der Integrationsfonds ist eine Maßnahme d
 es Gesamtkonzepts zur Integration und Partizipation Geflüchteter des Senats von
  Berlin. Das Projekt Galerie Interkulturell wird kofinanziert von der Euro
 päischen Kommission\, gefördert aus dem Programm ?Kultur und Bibliotheken im St
 adtteil ? KUBIST?. Die Projekte finden in Kooperation mit dem Fachbereich 
 Kunst und Geschichte des Bezirksamtes Reinickendorf statt.\n\nViel Spass w
 ünscht Gratis-in-Berlin\n\nLink zum Tip: https://www.gratis-in-berlin.de/kunst/
 item/2067209-verzwirnt-und-zugenaeht-naehkurs\nZu den Gratis-in-Berlin Ang
 eboten: http://www.gratis-in-berlin.de\n
DTSTART;VALUE=DATE:20240702
DTEND;VALUE=DATE:20240703
SUMMARY:Verzwirnt und zugenäht - Nähkurs 
END:VEVENT
END:VCALENDAR
