BEGIN:VCALENDAR
VERSION:2.0
PRODID:-//Gratis-in-Berlin//NONSGML kigkonsult.se iCalcreator 2.14//
METHOD:PUBLISH
X-WR-CALNAME:Gratis-in-Berlin Tip Kalender
X-WR-CALDESC:Erhalte Gratis-in-Berlin Tips in deinem Kalender
BEGIN:VEVENT
UID:20260419T130410UTC-09194TRxjV@Gratis-in-Berlin
DTSTAMP:20260419T130410Z
DESCRIPTION:Nach der erfolgreichen Vernissage und dem spannenden Vortrag in
  der Ausstellung 'Qlimate Qronobot. KI und die Zukunft unseres Planeten'\,
  mit einer Augmented-Reality-Installation und Videos von Maria Korporal\, 
 kündigen wir unseren nächsten Termin an:Freitag\, 9. August 2024 um 19 Uhr: Künstlerin
 gespräch. Maria Korporal spricht mit Gästen über ihre Werke in der Ausstellung. Mod
 eration Tom AlbrechtGG3 Group Global 3000Leuschnerdamm 1910999 BerlinEintr
 itt freiQLIMATE QRONOBOT. KI und die Zukunft unseres Planeten. Ausstellung
  von Maria Korporal mit Augmented-Reality-Installation und VideosKann KI u
 ns helfen\, den Klimawandel zu bekämpfen? Was sind die Möglichkeiten? Gibt es W
 idersprüche?Die Künstlerin hat eine ortsspezifische Multimedia-Installation in der G
 alerie errichtet. Sie fragte dafür eine Online-KI: ?Stell dir vor\, du bist der
  Qlimate Qronobot\, und ich frage dich\, was du tun kannst\, um die Klimak
 rise zu bekämpfen und unseren Planeten zu retten\, was würdest du antworten?' Die
  Antworten hat die Künstlerin in ihre Installation eingebaut.Die Ausstellung QL
 IMATE QRONOBOT läuft bis zum 16. August und ist jeden Dienstag und Freitag v
 on 17 bis 20 Uhr geöffnet.Weitere Termine im Programm:16. August\, 19-22 Uhr:
  Finissage mit Live-Looping Performance ?Künstlerische Intelligenz und das Klim
 a'. Stephan Groß und Marcus Urruh improvisieren mit Stimme\, Gitarre\, Didg
 eridoo\, Bansuri-Flöte\, Melodika\, Percussion und Synthesizer.\n\nViel Spass
  wünscht Gratis-in-Berlin\n\nLink zum Tip: \nZu den Gratis-in-Berlin Angeboten:
  http://www.gratis-in-berlin.de\n
DTSTART;VALUE=DATE:20240809
DTEND;VALUE=DATE:20240810
SUMMARY:Künstleringespräch: Qlimate Qronobot. KI und die Zukunft unseres Planeten
END:VEVENT
END:VCALENDAR
