BEGIN:VCALENDAR
VERSION:2.0
PRODID:-//Gratis-in-Berlin//NONSGML kigkonsult.se iCalcreator 2.14//
METHOD:PUBLISH
X-WR-CALNAME:Gratis-in-Berlin Tip Kalender
X-WR-CALDESC:Erhalte Gratis-in-Berlin Tips in deinem Kalender
BEGIN:VEVENT
UID:20260421T124822UTC-8952IsdSiX@Gratis-in-Berlin
DTSTAMP:20260421T124822Z
DESCRIPTION:Liebe Freunde der Kunst\, Sie sind herzlich eingeladen zu der f
 eierlichen Schließung der Kunstausstellung ?Gefährliche mystische Wesen: Wie 
 übersteht man eine Begegnung mit der Frau.? Es ist ein Fest der Sinnlichkeit. V
 erpassen Sie nicht die Enthüllung mystischer Weiblichkeit! Die Frauen sind schön\,
  unberechenbar und haben eindeutig magische Kräfte. Man begegnet ihnen überall un
 d es gibt sie in allen nur erdenklichen Variationen\, so dass sie wirklich
  immer jemandes Geschmack treffen und des Herzens berauben. Aus diesem Gru
 nd kann man ihnen nur schwer entkommen. Was eine Frau genau ist\, ist nur 
 schwer zu definieren\, aber man weiß sofort\, dass sie es ist\, wenn sie vo
 r einem erscheint. Bei dieser Kunstausstellung bekommen Sie Tipps für den Umgan
 g mit diesen sinnlichen Geschöpfen. Der Wiederstand ist zwecklos\, also versu
 chen Sie die mystische Welt der Frauen zu verstehen! Die Künstler*innen Diana M
 atkovska\, Dima Miroshnichenko\, Elena Wüst\, Evgenia Usimova\, Halyna Hamelink
 -Ihnatenko\, Olena Yashchuk und Vasilisa Boykova zeigen Gemälde und Skulptur
 en\, die den weiblichen Akt auf eine mystische Art und Weise präsentieren. S
 ie geben Einblick in die verworrene\, intime Welt der Frau und enthüllen einige
  Geheimnisse ihrer Seele. Sie können einen individuellen kostenfreien Besuchs
 termin vereinbaren unter der Telefon-Nr.: +49 176 396 700 37 oder unter co
 ntact@art-greed.com. Wir schließen feierlich die Ausstellung am Freitag\, d
 en 30. August\, ab 19 Uhr. Der Eintritt ist frei! Wir freuen uns auf Ihren
  Besuch! PostArt Gallery Schustehrusstraße 47 10585 Berlin-Charlottenburg\n
 \nViel Spass wünscht Gratis-in-Berlin\n\nLink zum Tip: \nZu den Gratis-in-Berli
 n Angeboten: http://www.gratis-in-berlin.de\n
DTSTART;VALUE=DATE:20240830
DTEND;VALUE=DATE:20240831
SUMMARY:Finissage der Ausstellung 'Gefährliche mystische Wesen - die Frauen'
END:VEVENT
END:VCALENDAR
