BEGIN:VCALENDAR
VERSION:2.0
PRODID:-//Gratis-in-Berlin//NONSGML kigkonsult.se iCalcreator 2.14//
METHOD:PUBLISH
X-WR-CALNAME:Gratis-in-Berlin Tip Kalender
X-WR-CALDESC:Erhalte Gratis-in-Berlin Tips in deinem Kalender
BEGIN:VEVENT
UID:20260419T154156UTC-3826PVGbHN@Gratis-in-Berlin
DTSTAMP:20260419T154156Z
DESCRIPTION:Finissage:Samstag\, den 26. April 2025 um 16 Uhr mit Kunstgespr
 äch - Eintritt frei!\n\nViel Spass wünscht Gratis-in-Berlin\n\nLink zum Tip: \nZu
  den Gratis-in-Berlin Angeboten: http://www.gratis-in-berlin.de\n
DTSTART;VALUE=DATE:20250329
DTEND;VALUE=DATE:20250427
SUMMARY:Connection (Enkaustik und Acryl) Johanna Ofori Attah (Mo - Sa)
END:VEVENT
END:VCALENDAR
