BEGIN:VCALENDAR
VERSION:2.0
PRODID:-//Gratis-in-Berlin//NONSGML kigkonsult.se iCalcreator 2.14//
METHOD:PUBLISH
X-WR-CALNAME:Gratis-in-Berlin Tip Kalender
X-WR-CALDESC:Erhalte Gratis-in-Berlin Tips in deinem Kalender
BEGIN:VEVENT
UID:20260419T171107UTC-02170A4mvA@Gratis-in-Berlin
DTSTAMP:20260419T171107Z
DESCRIPTION:Freuen Sie sich auf den 14. Kunsthandwerkermarkt in Hennigsdorf
  im Innenhof des Bürgerhauses 'Alte Feuerwache' und der angrenzenden Friedhofst
 raße.Mehr als 65 Künstlerinnen und Künstler sowie Handwerkerinnen und Handwerker aus 
 Berlin und Brandenburg stellen auf dem wunderschönen und in der regionalen Ku
 nsthandwerkerszene bekannten Marktplatz ihre Produkte zum Verkauf aus.Vers
 chiedene Ausstellende führen ihr Handwerk vor und bieten tolle Mitmachangebote 
 für Klein und Groß an. Außerdem erwarten Sie regionale Stände mit Getränken\, Kaffee\
 , Kuchen und herzhaften Leckereien. Eintritt frei!\n\nViel Spass wünscht Gratis
 -in-Berlin\n\nLink zum Tip: https://www.gratis-in-berlin.de/kunst/item/207
 0341-13-kunsthandwerkermarkt-in-hennigsdorf\nZu den Gratis-in-Berlin Angeb
 oten: http://www.gratis-in-berlin.de\n
DTSTART;VALUE=DATE:20260510
DTEND;VALUE=DATE:20260511
SUMMARY:14. Kunsthandwerkermarkt in Hennigsdorf
END:VEVENT
END:VCALENDAR
