BEGIN:VCALENDAR
VERSION:2.0
PRODID:-//Gratis-in-Berlin//NONSGML kigkonsult.se iCalcreator 2.14//
METHOD:PUBLISH
X-WR-CALNAME:Gratis-in-Berlin Tip Kalender
X-WR-CALDESC:Erhalte Gratis-in-Berlin Tips in deinem Kalender
BEGIN:VEVENT
UID:20260423T203402UTC-9754ZDAIGU@Gratis-in-Berlin
DTSTAMP:20260423T203402Z
DESCRIPTION:Neukölln ist ein pulsierender und bedeutender Standort der zeitgen
 össischen Kunstszene Berlins. Mit einer Vielzahl an Ateliers\, Kunst- und Pro
 jekträumen hat sich der Bezirk zu einem wichtigen Zentrum für kreative Produktion
  entwickelt. Seit 2017 würdigt und fördert der Fachbereich Kultur in Kooperation m
 it dem Kulturnetzwerk Neukölln e.V. und der STADT UND LAND Wohnbauten-Gesells
 chaft mbH die herausragende Kunstproduktion in Neukölln mit der Verleihung de
 s Neuköllner Kunstpreises. Aus einer Vielzahl von Bewerbungen hat die fünfköpfigen
  Fachjury insgesamt acht Künstlerinnen nominiert\, die in Neukölln leben oder arbe
 iten. In einer Gruppenausstellung stellt die Galerie im Saalbau die Arbeit
 en der Nominierten vor. Die Besucher:innen erhalten dadurch einen authenti
 schen Einblick in die vielfältige Kunstproduktion Neuköllner Künstler:innen. Für den Neuk
 öllner Kunstpreis 2025 sind nominiert:Rita Adib\, Fernanda Figueiredo\, Ida L
 awrence\, Tra My Nguyen\, Vanessa Amoah Opoku\, Asako Shiroki\, Bea Targos
 z\, Sabiha Helin Ulas Kuratiert von Nina Marlene KrausAusstellung vom 15. 
 Februar bis 11. Mai 2025\n\nViel Spass wünscht Gratis-in-Berlin\n\nLink zum Tip
 : https://www.gratis-in-berlin.de/kunst/item/2070355-neukoellner-kunstprei
 s-2025-taeglich\nZu den Gratis-in-Berlin Angeboten: http://www.gratis-in-b
 erlin.de\n
DTSTART;VALUE=DATE:20250215
DTEND;VALUE=DATE:20250512
SUMMARY:Neuköllner Kunstpreis 2025 (täglich)
END:VEVENT
END:VCALENDAR
