BEGIN:VCALENDAR
VERSION:2.0
PRODID:-//Gratis-in-Berlin//NONSGML kigkonsult.se iCalcreator 2.14//
METHOD:PUBLISH
X-WR-CALNAME:Gratis-in-Berlin Tip Kalender
X-WR-CALDESC:Erhalte Gratis-in-Berlin Tips in deinem Kalender
BEGIN:VEVENT
UID:20260419T122213UTC-7685TZOc9d@Gratis-in-Berlin
DTSTAMP:20260419T122213Z
DESCRIPTION:Was können künstlerische Perspektiven sichtbar machen\, was uns reine D
 aten und Fakten nicht vermitteln können? Wie gelingt es der Kunst\, diese erf
 ahrbar zu machen? Können Kunst und Technologie gemeinsam neue Formen der Komm
 unikation\, Empathie\, Verbundenheit und Verantwortung für unsere Umwelt entwic
 keln?Diesen Fragen widmet sich silent green im Januar 2025 mit der umfangr
 eichen Gruppenausstellung UnNatural Encounters. In der Betonhalle werden z
 ehn ausgewählte Arbeiten präsentiert\, die zwischen 2022 und 2024 im Rahmen de
 r europaweiten Residenzprogramme der European Media Art Platform (EMAP) en
 tstanden sind.Öffnungszeiten: Mo?Fr\, 14?20 Uhr / Sa?So\, 11?20 Uhr\n\nViel
  Spass wünscht Gratis-in-Berlin\n\nLink zum Tip: \nZu den Gratis-in-Berlin Ange
 boten: http://www.gratis-in-berlin.de\n
DTSTART;VALUE=DATE:20250116
DTEND;VALUE=DATE:20250120
SUMMARY:Ausstellung UnNatural Encounters im ex-Krematorium silent green
END:VEVENT
END:VCALENDAR
