BEGIN:VCALENDAR
VERSION:2.0
PRODID:-//Gratis-in-Berlin//NONSGML kigkonsult.se iCalcreator 2.14//
METHOD:PUBLISH
X-WR-CALNAME:Gratis-in-Berlin Tip Kalender
X-WR-CALDESC:Erhalte Gratis-in-Berlin Tips in deinem Kalender
BEGIN:VEVENT
UID:20260422T101250UTC-6848XKNwl1@Gratis-in-Berlin
DTSTAMP:20260422T101250Z
DESCRIPTION:Eröffnung:Do 30. Januar\, 19 UhrBegrüßung: Veronika WitteEinführung: Harald 
 F. TheissKünstler*innen: Gabriele Basch\, Antje Blumenstein\, Astrid Busch\, Ru
 th Campau\, Anja Gerecke\, Franziska Hu?nig\, Ellen Hyllemose\, Schirin Kr
 etschmann\, Sophia Schama\, Nicola Staeglich\, Klaus-Martin Treder\, Torgn
 y WilckeVom ?Ausstieg aus dem Bild? sprach der ungarische Kunsthistoriker 
 Laszlo Glozer im Rückblick auf die zweite Hälfte des 20. Jahrhunderts. Zuerst wur
 de der Rahmen des Bildes als Begrenzung überwunden\, später wurden die Grenzen zw
 ischen Malerei\, Installation und Skulptur aufgelöst und die Malerei in den R
 aum hinein erweitert.Die Gruppenausstellung Gravity?s Rainbow zeigt zwölf akt
 uelle künstlerische Positionen\, die aus heutiger Perspektive Malerei inner- un
 d außerhalb der klassischen Bildgrenzen untersuchen: vom Tafelbild über Wandobje
 kte bis hin zu farbigen Skulpturen und ortsspezifischen Installationen. Di
 e Künstler:innen verhandeln auf verschiedene Weise Parameter der Malerei wie Bi
 ldfläche\, Bildträger\, Materialität\, Räumlichkeit und Oberfläche.In Auseinanderset
 zung mit dem Ausstellungsraum und seinem sozialen und gesellschaftlichen K
 ontext entwickeln die Künstler:innen ortsspezifische Arbeiten\, die auf die spe
 zifischen Gegebenheiten der Galerie reagieren. Durch die Verschränkung von S
 tadtraum und Kunstraum wird eine Verschiebung der Wahrnehmung bewirkt\, di
 e nach dem Verhältnis von Kunst und Wirklichkeit fragt. Mit dem Einsatz ?mal
 ereifremder? Materialien wie Werbeplanen\, Kunststoff oder Baumaterialien 
 finden weitere Verschiebungen statt.Die Künstler:innen der Ausstellung treten m
 it dem Galerieraum in Dialog und erschaffen eine Raumcollage\, in der sich
  die Arbeiten im Innenraum mit dem urbanen Umfeld visuell überlagern.Der Titel 
 ist Thomas Pynchons Roman Gravity?s Rainbow (deutscher Titel: Die Enden de
 r Parabel) entliehen. Er verweist auf Aspekte wie Perspektivwechsel\, Vers
 chiebungen der Wahrnehmung sowie das Wechselspiel zwischen Wirklichkeit un
 d Fiktion.Kuratiert von Franziska Hünig und Veronika WitteBegleitende Veranstal
 tungen:Der Ausstieg aus dem Bild Vortrag: Mi 12.?2.?25\, 19 UhrGravity's R
 ainbow Künstler*innengespräch: Mi 5.?3.?25\, 19 UhrGravity's Rainbow Kurator*inne
 nrundgang: Mi 19.?3.?25\, 19 Uhr\n\nViel Spass wünscht Gratis-in-Berlin\n\nLink
  zum Tip: https://www.gratis-in-berlin.de/kalender/item/2071000-gravity-s-
 rainbow-di-sa\nZu den Gratis-in-Berlin Angeboten: http://www.gratis-in-ber
 lin.de\n
DTSTART;VALUE=DATE:20250130
DTEND;VALUE=DATE:20250323
SUMMARY: Gravity?s Rainbow (Di - Sa)
END:VEVENT
END:VCALENDAR
