BEGIN:VCALENDAR
VERSION:2.0
PRODID:-//Gratis-in-Berlin//NONSGML kigkonsult.se iCalcreator 2.14//
METHOD:PUBLISH
X-WR-CALNAME:Gratis-in-Berlin Tip Kalender
X-WR-CALDESC:Erhalte Gratis-in-Berlin Tips in deinem Kalender
BEGIN:VEVENT
UID:20260422T125442UTC-6956lXVl8F@Gratis-in-Berlin
DTSTAMP:20260422T125442Z
DESCRIPTION:n.b.k. ShowroomFranka Hörnschemeyer. Die Ökonomen (Singspiel)Laufze
 it: 7. Juni ? 3. August 2025Eröffnung: 6. Juni 2025\, 19 UhrKuratorin: Kriszt
 ina Hunya\, Anna Lena SeiserDie Künstlerin Franka Hörnschemeyer setzt sich in ihre
 n Arbeiten mit Architektur und Raum als Medien von Zeitgeschichte\, sozial
 en Gefügen und spezifischen Anordnungen des Sichtbaren auseinander. Ihr ?uvre u
 mfasst raumgreifende Installationen und Objekte ebenso wie Arbeiten mit So
 und\, Video\, Fotografie und Papier oder minimale\, ortsspezifische Eingri
 ffe\, die einen neuen Blick auf bereits bekannte Orte oder Räume aktivieren.
  Ein wiederkehrendes Merkmal ihrer Arbeiten sind Materialien wie Gipskarto
 nplatten\, Schalelemente und andere Baustoffe\, die als Grundbestandteile 
 des gebauten Raumes ? nicht zuletzt im Ausstellungskontext ? omnipräsent sin
 d\, jedoch selten bewusst wahrgenommen werden.Di-Fr 12 Uhr - 18 Uhr&nbsp\;
 Do 12 Uhr - 20 Uhr\n\nViel Spass wünscht Gratis-in-Berlin\n\nLink zum Tip: http
 s://www.gratis-in-berlin.de/kalender/item/2071033-franka-hoernschemeyer\nZ
 u den Gratis-in-Berlin Angeboten: http://www.gratis-in-berlin.de\n
DTSTART;VALUE=DATE:20250607
DTEND;VALUE=DATE:20250804
SUMMARY:Franka Hörnschemeyer (Di - Fr)
END:VEVENT
END:VCALENDAR
