BEGIN:VCALENDAR
VERSION:2.0
PRODID:-//Gratis-in-Berlin//NONSGML kigkonsult.se iCalcreator 2.14//
METHOD:PUBLISH
X-WR-CALNAME:Gratis-in-Berlin Tip Kalender
X-WR-CALDESC:Erhalte Gratis-in-Berlin Tips in deinem Kalender
BEGIN:VEVENT
UID:20260419T171201UTC-8611tURklc@Gratis-in-Berlin
DTSTAMP:20260419T171201Z
DESCRIPTION:Ausstellungseröffnung mit Reden und PerformancesPerformance »Time B
 omb« von Marcella Nuerkie AkuettehKonzertperformance von Anthony R. Green &
 amp\; Julius Yaw Quansah\, u.a\n\nViel Spass wünscht Gratis-in-Berlin\n\nLink z
 um Tip: https://www.gratis-in-berlin.de/kalender/item/2071531-eroeffnung-a
 ctivist-choreographies-of-care\nZu den Gratis-in-Berlin Angeboten: http://
 www.gratis-in-berlin.de\n
DTSTART;VALUE=DATE:20250328
DTEND;VALUE=DATE:20250329
SUMMARY:Eröffnung: Activist Choreographies of Care
END:VEVENT
END:VCALENDAR
