BEGIN:VCALENDAR
VERSION:2.0
PRODID:-//Gratis-in-Berlin//NONSGML kigkonsult.se iCalcreator 2.14//
METHOD:PUBLISH
X-WR-CALNAME:Gratis-in-Berlin Tip Kalender
X-WR-CALDESC:Erhalte Gratis-in-Berlin Tips in deinem Kalender
BEGIN:VEVENT
UID:20260419T202239UTC-2547KUbn36@Gratis-in-Berlin
DTSTAMP:20260419T202239Z
DESCRIPTION:In der zweiten Ferienwoche dreht sich bei der Fashion Week alle
 s um eure Kreativität und Mode! Ihr seid zwischen 10 und 14 Jahren alt? Dann
  gestaltet mit uns Kostüme aus recycelten Materialien\, entwickelt verrückte Make-Up
 s und zeigt eure ganz eigenen Designs. Am Ende erwartet euch ein aufregend
 es Fotoshooting und eine coole Fashion Show\, bei der ihr eure Kreationen 
 präsentieren könnt. Ein kreatives Abenteuer für alle\, die Mode und Nachhaltigkeit l
 ieben!\n\nViel Spass wünscht Gratis-in-Berlin\n\nLink zum Tip: \nZu den Gratis-
 in-Berlin Angeboten: http://www.gratis-in-berlin.de\n
DTSTART;VALUE=DATE:20250422
DTEND;VALUE=DATE:20250426
SUMMARY:Fashion Week - Upcycling Ferienworkshops 
END:VEVENT
END:VCALENDAR
