BEGIN:VCALENDAR
VERSION:2.0
PRODID:-//Gratis-in-Berlin//NONSGML kigkonsult.se iCalcreator 2.14//
METHOD:PUBLISH
X-WR-CALNAME:Gratis-in-Berlin Tip Kalender
X-WR-CALDESC:Erhalte Gratis-in-Berlin Tips in deinem Kalender
BEGIN:VEVENT
UID:20260419T154155UTC-4685u2K2uZ@Gratis-in-Berlin
DTSTAMP:20260419T154155Z
DESCRIPTION:Liebe Freunde der Kunst\,die Malerin Ania Dziezewska und der Bi
 ldhauer Volker Scheurer laden Sie herzlich ein\, ihre faszinierenden Werke
  und den Kunstraum Berlin zu entdecken. Sie teilen spannende Einblicke in 
 ihren kreativen Prozess und stehen bereit\, um all Ihre Fragen zu beantwor
 ten. Seien Sie Teil des lebendigen Dialogs zwischen den Künstlern und dem Publi
 kum\, denn Kunst ist oft die Antwort auf die Frage die nicht gestellt wird
 .Der Eintritt ist frei. Wir freuen uns auf Ihren Besuch!Die öffentliche Führung fi
 ndet am Freitag\, den 28. März\, um 19 Uhr statt.Wenn Sie eine individuelle 
 kostenfreie Führung wünschen\, machen Sie gerne einen Termin bei contact@art-greed.c
 om.Kunstraum BerlinHauptstraße 7712159 Berlin\n\nViel Spass wünscht Gratis-in-Be
 rlin\n\nLink zum Tip: \nZu den Gratis-in-Berlin Angeboten: http://www.grat
 is-in-berlin.de\n
DTSTART;VALUE=DATE:20250328
DTEND;VALUE=DATE:20250329
SUMMARY:'Just Paintings and Sculptures': Führung durch Kunstraum Berlin
END:VEVENT
END:VCALENDAR
