BEGIN:VCALENDAR
VERSION:2.0
PRODID:-//Gratis-in-Berlin//NONSGML kigkonsult.se iCalcreator 2.14//
METHOD:PUBLISH
X-WR-CALNAME:Gratis-in-Berlin Tip Kalender
X-WR-CALDESC:Erhalte Gratis-in-Berlin Tips in deinem Kalender
BEGIN:VEVENT
UID:20260422T130747UTC-3567KBB49x@Gratis-in-Berlin
DTSTAMP:20260422T130747Z
DESCRIPTION:Bei archäologischen Grabungen auf dem Tempelhofer Feld kamen ab d
 em Jahr 2012 rund 100.000 Objekte zutage. Gegraben wurde vor allem im Bere
 ich ehemaliger Barackenlager\, in denen NS-Zwangsarbeiter:innen aus den be
 setzten Ländern untergebracht waren. Sie mussten für die Deutsche Lufthansa und d
 ie Weser Flugzeugbau GmbH in der Rüstungsproduktion arbeiten. Unter den Funden 
 befanden sich auch hunderte Glasscherben\, zum Teil durch Brände infolge von
  Luftangriffen verformt. In der künstlerischen Auseinandersetzung ?Glas? von So
 nya Schönberger verschmelzen diese Fragmente zu skulpturalen Objekten. Sie st
 ehen für die Zerbrechlichkeit von Erinnerung und die Grenzen unseres Verstehens
 . Zugleich regt die Arbeit dazu an\, Gedenken als bewussten Akt zu versteh
 en\, der Geschichte in die Gegenwart trägt.Dienstags - Sonntags 10-18 Uhr Ba
 racke 2\n\nViel Spass wünscht Gratis-in-Berlin\n\nLink zum Tip: \nZu den Gratis
 -in-Berlin Angeboten: http://www.gratis-in-berlin.de\n
DTSTART;VALUE=DATE:20250430
DTEND;VALUE=DATE:20251103
SUMMARY:Glas. Eine Installation von Sonya Schönberger (Di - So)
END:VEVENT
END:VCALENDAR
